BEGIN:VCALENDAR
VERSION:2.0
PRODID:-//Matt Armstrong Improv - ECPv6.15.20//NONSGML v1.0//EN
CALSCALE:GREGORIAN
METHOD:PUBLISH
X-WR-CALNAME:Matt Armstrong Improv
X-ORIGINAL-URL:https://www.mattarmstrongimprov.com
X-WR-CALDESC:Events for Matt Armstrong Improv
REFRESH-INTERVAL;VALUE=DURATION:PT1H
X-Robots-Tag:noindex
X-PUBLISHED-TTL:PT1H
BEGIN:VTIMEZONE
TZID:Pacific/Auckland
BEGIN:STANDARD
TZOFFSETFROM:+1300
TZOFFSETTO:+1200
TZNAME:NZST
DTSTART:20230401T140000
END:STANDARD
BEGIN:DAYLIGHT
TZOFFSETFROM:+1200
TZOFFSETTO:+1300
TZNAME:NZDT
DTSTART:20230923T140000
END:DAYLIGHT
BEGIN:STANDARD
TZOFFSETFROM:+1300
TZOFFSETTO:+1200
TZNAME:NZST
DTSTART:20240406T140000
END:STANDARD
BEGIN:DAYLIGHT
TZOFFSETFROM:+1200
TZOFFSETTO:+1300
TZNAME:NZDT
DTSTART:20240928T140000
END:DAYLIGHT
BEGIN:STANDARD
TZOFFSETFROM:+1300
TZOFFSETTO:+1200
TZNAME:NZST
DTSTART:20250405T140000
END:STANDARD
BEGIN:DAYLIGHT
TZOFFSETFROM:+1200
TZOFFSETTO:+1300
TZNAME:NZDT
DTSTART:20250927T140000
END:DAYLIGHT
BEGIN:STANDARD
TZOFFSETFROM:+1300
TZOFFSETTO:+1200
TZNAME:NZST
DTSTART:20260404T140000
END:STANDARD
BEGIN:DAYLIGHT
TZOFFSETFROM:+1200
TZOFFSETTO:+1300
TZNAME:NZDT
DTSTART:20260926T140000
END:DAYLIGHT
END:VTIMEZONE
BEGIN:VEVENT
DTSTART;TZID=Pacific/Auckland:20250425T100000
DTEND;TZID=Pacific/Auckland:20250425T100000
DTSTAMP:20260424T174314
CREATED:20250819T213453Z
LAST-MODIFIED:20250819T213453Z
UID:1133-1745575200-1745575200@www.mattarmstrongimprov.com
SUMMARY:Solo Improv - workshop - Rik Brown
DESCRIPTION:
URL:https://www.mattarmstrongimprov.com/calendar/solo-improv-workshop-rik-brown/
CATEGORIES:Attending
END:VEVENT
BEGIN:VEVENT
DTSTART;TZID=Pacific/Auckland:20250422T100000
DTEND;TZID=Pacific/Auckland:20250422T100000
DTSTAMP:20260424T174314
CREATED:20250819T213450Z
LAST-MODIFIED:20250819T213450Z
UID:1132-1745316000-1745316000@www.mattarmstrongimprov.com
SUMMARY:Be Curious - workshop - Stacey Hallal
DESCRIPTION:
URL:https://www.mattarmstrongimprov.com/calendar/be-curious-workshop-stacey-hallal/
CATEGORIES:Attending
END:VEVENT
BEGIN:VEVENT
DTSTART;TZID=Pacific/Auckland:20250420T100000
DTEND;TZID=Pacific/Auckland:20250420T100000
DTSTAMP:20260424T174314
CREATED:20250819T213454Z
LAST-MODIFIED:20250819T213454Z
UID:1135-1745143200-1745143200@www.mattarmstrongimprov.com
SUMMARY:Dynamite Dynamics - workshop - Stacey Hallal
DESCRIPTION:
URL:https://www.mattarmstrongimprov.com/calendar/dynamite-dynamics-workshop-stacey-hallal/
CATEGORIES:Attending
END:VEVENT
BEGIN:VEVENT
DTSTART;TZID=Pacific/Auckland:20250419T100000
DTEND;TZID=Pacific/Auckland:20250419T100000
DTSTAMP:20260424T174314
CREATED:20250819T213453Z
LAST-MODIFIED:20250819T213453Z
UID:1134-1745056800-1745056800@www.mattarmstrongimprov.com
SUMMARY:Due Dynamics - workshop - Stacey Hallal
DESCRIPTION:
URL:https://www.mattarmstrongimprov.com/calendar/due-dynamics-workshop-stacey-hallal/
CATEGORIES:Attending
END:VEVENT
BEGIN:VEVENT
DTSTART;VALUE=DATE:20240413
DTEND;VALUE=DATE:20240422
DTSTAMP:20260424T174314
CREATED:20240324T085040Z
LAST-MODIFIED:20240409T054922Z
UID:570-1712966400-1713743999@www.mattarmstrongimprov.com
SUMMARY:Auckland Improv Festival
DESCRIPTION:Attending workshops everyday!  Performing sometimes!  Directing too\, perhaps!
URL:https://www.mattarmstrongimprov.com/calendar/auckland-improv-festival/
LOCATION:Covert Theatre\, 51 MacKelvie Street\, Auckland\, New Zealand
CATEGORIES:Attending,Performing,Teaching
END:VEVENT
BEGIN:VEVENT
DTSTART;TZID=Pacific/Auckland:20240410T163000
DTEND;TZID=Pacific/Auckland:20240410T200000
DTSTAMP:20260424T174314
CREATED:20240409T053158Z
LAST-MODIFIED:20240409T053220Z
UID:1080-1712766600-1712779200@www.mattarmstrongimprov.com
SUMMARY:DaVinci Resolve Training
DESCRIPTION:Series of workshops on using DaVinci Resolve\, hosted by Daniel Habedank of DragonPuppy Studio.  Workshops are to improve the quality of the multicam footage recorded at Covert Theatre
URL:https://www.mattarmstrongimprov.com/calendar/davinci-resolve-training/
LOCATION:Covert Theatre\, 51 MacKelvie Street\, Auckland\, New Zealand
CATEGORIES:Attending
END:VEVENT
END:VCALENDAR