BEGIN:VCALENDAR
VERSION:2.0
PRODID:-//Matt Armstrong Improv - ECPv6.15.20//NONSGML v1.0//EN
CALSCALE:GREGORIAN
METHOD:PUBLISH
X-ORIGINAL-URL:https://www.mattarmstrongimprov.com
X-WR-CALDESC:Events for Matt Armstrong Improv
REFRESH-INTERVAL;VALUE=DURATION:PT1H
X-Robots-Tag:noindex
X-PUBLISHED-TTL:PT1H
BEGIN:VTIMEZONE
TZID:Pacific/Auckland
BEGIN:STANDARD
TZOFFSETFROM:+1300
TZOFFSETTO:+1200
TZNAME:NZST
DTSTART:20220402T140000
END:STANDARD
BEGIN:DAYLIGHT
TZOFFSETFROM:+1200
TZOFFSETTO:+1300
TZNAME:NZDT
DTSTART:20220924T140000
END:DAYLIGHT
BEGIN:STANDARD
TZOFFSETFROM:+1300
TZOFFSETTO:+1200
TZNAME:NZST
DTSTART:20230401T140000
END:STANDARD
BEGIN:DAYLIGHT
TZOFFSETFROM:+1200
TZOFFSETTO:+1300
TZNAME:NZDT
DTSTART:20230923T140000
END:DAYLIGHT
BEGIN:STANDARD
TZOFFSETFROM:+1300
TZOFFSETTO:+1200
TZNAME:NZST
DTSTART:20240406T140000
END:STANDARD
BEGIN:DAYLIGHT
TZOFFSETFROM:+1200
TZOFFSETTO:+1300
TZNAME:NZDT
DTSTART:20240928T140000
END:DAYLIGHT
END:VTIMEZONE
BEGIN:VEVENT
DTSTART;TZID=Pacific/Auckland:20230716T171500
DTEND;TZID=Pacific/Auckland:20230716T171500
DTSTAMP:20260424T223014
CREATED:20240404T225940Z
LAST-MODIFIED:20240404T225940Z
UID:966-1689527700-1689527700@www.mattarmstrongimprov.com
SUMMARY:Jester
DESCRIPTION:Jester – fresh comedy every time\nThis is a fast and furious improv comedy show in the style of TV’s Whose Line Is It Anyway? Improvisers are called up to perform scenes\, sagas and songs all based on the audience’s suggestions.  \nSheer madcap wit and an energetic slapdash hour of fun. Theatreview \n\nCome armed with your funny bone and some unique suggestions for the performers who are guaranteed to leave you grinning from ear to ear before the night is done. NZ Entertainment Podcast>
URL:https://www.mattarmstrongimprov.com/calendar/jester-15/
LOCATION:Covert Theatre\, 51 MacKelvie Street\, Auckland\, New Zealand
CATEGORIES:Directing
END:VEVENT
BEGIN:VEVENT
DTSTART;TZID=Pacific/Auckland:20230611T171500
DTEND;TZID=Pacific/Auckland:20230611T171500
DTSTAMP:20260424T223014
CREATED:20240404T225941Z
LAST-MODIFIED:20240404T225941Z
UID:961-1686503700-1686503700@www.mattarmstrongimprov.com
SUMMARY:Jester
DESCRIPTION:Jester – fresh comedy every time\nThis is a fast and furious improv comedy show in the style of TV’s Whose Line Is It Anyway? Improvisers are called up to perform scenes\, sagas and songs all based on the audience’s suggestions.  \nSheer madcap wit and an energetic slapdash hour of fun. Theatreview \n\nCome armed with your funny bone and some unique suggestions for the performers who are guaranteed to leave you grinning from ear to ear before the night is done. NZ Entertainment Podcast>
URL:https://www.mattarmstrongimprov.com/calendar/jester-16/
LOCATION:Covert Theatre\, 51 MacKelvie Street\, Auckland\, New Zealand
CATEGORIES:Directing
END:VEVENT
BEGIN:VEVENT
DTSTART;TZID=Pacific/Auckland:20230514T171500
DTEND;TZID=Pacific/Auckland:20230514T171500
DTSTAMP:20260424T223014
CREATED:20240404T225941Z
LAST-MODIFIED:20240404T225941Z
UID:955-1684084500-1684084500@www.mattarmstrongimprov.com
SUMMARY:Jester
DESCRIPTION:Jester – fresh comedy every time\nThis is a fast and furious improv comedy show in the style of TV’s Whose Line Is It Anyway? Improvisers are called up to perform scenes\, sagas and songs all based on the audience’s suggestions.  \nSheer madcap wit and an energetic slapdash hour of fun. Theatreview \n\nCome armed with your funny bone and some unique suggestions for the performers who are guaranteed to leave you grinning from ear to ear before the night is done. NZ Entertainment Podcast>
URL:https://www.mattarmstrongimprov.com/calendar/jester-17/
LOCATION:Covert Theatre\, 51 MacKelvie Street\, Auckland\, New Zealand
CATEGORIES:Directing
END:VEVENT
BEGIN:VEVENT
DTSTART;TZID=Pacific/Auckland:20230511T200500
DTEND;TZID=Pacific/Auckland:20230511T200500
DTSTAMP:20260424T223014
CREATED:20240404T224956Z
LAST-MODIFIED:20240404T224956Z
UID:889-1683835500-1683835500@www.mattarmstrongimprov.com
SUMMARY:The Remarkable Case of
DESCRIPTION:A murder mystery with a difference.\nYou’ll get to see the final Whodunnit scene at the start of the show and then the improv actors will take you back to the start so you can see how it all happened. And remember it’s 100% improvised! For lovers of Agatha Christie and all good murder mysteries.
URL:https://www.mattarmstrongimprov.com/calendar/the-remarkable-case-of-8/
LOCATION:Covert Theatre\, 51 MacKelvie Street\, Auckland\, New Zealand
CATEGORIES:Directing
END:VEVENT
BEGIN:VEVENT
DTSTART;TZID=Pacific/Auckland:20230430T173000
DTEND;TZID=Pacific/Auckland:20230430T193000
DTSTAMP:20260424T223014
CREATED:20240404T210057Z
LAST-MODIFIED:20240404T215420Z
UID:741-1682875800-1682883000@www.mattarmstrongimprov.com
SUMMARY:Jester
DESCRIPTION:Jester – fresh comedy every time\nThis is a fast and furious improv comedy show in the style of TV’s Whose Line Is It Anyway? Improvisers are called up to perform scenes\, sagas and songs all based on the audience’s suggestions.  \nSheer madcap wit and an energetic slapdash hour of fun. Theatreview \n\nCome armed with your funny bone and some unique suggestions for the performers who are guaranteed to leave you grinning from ear to ear before the night is done. NZ Entertainment Podcast>
URL:https://www.mattarmstrongimprov.com/calendar/jester-5/
LOCATION:Covert Theatre\, 51 MacKelvie Street\, Auckland\, New Zealand
CATEGORIES:Directing
END:VEVENT
BEGIN:VEVENT
DTSTART;TZID=Pacific/Auckland:20230430T171500
DTEND;TZID=Pacific/Auckland:20230430T171500
DTSTAMP:20260424T223014
CREATED:20240404T224956Z
LAST-MODIFIED:20240404T224956Z
UID:885-1682874900-1682874900@www.mattarmstrongimprov.com
SUMMARY:Jester
DESCRIPTION:Jester – fresh comedy every time\nThis is a fast and furious improv comedy show in the style of TV’s Whose Line Is It Anyway? Improvisers are called up to perform scenes\, sagas and songs all based on the audience’s suggestions.  \nSheer madcap wit and an energetic slapdash hour of fun. Theatreview \n\nCome armed with your funny bone and some unique suggestions for the performers who are guaranteed to leave you grinning from ear to ear before the night is done. NZ Entertainment Podcast>
URL:https://www.mattarmstrongimprov.com/calendar/jester-9/
LOCATION:Covert Theatre\, 51 MacKelvie Street\, Auckland\, New Zealand
CATEGORIES:Directing
END:VEVENT
BEGIN:VEVENT
DTSTART;TZID=Pacific/Auckland:20230318T203000
DTEND;TZID=Pacific/Auckland:20230318T203000
DTSTAMP:20260424T223014
CREATED:20240404T224957Z
LAST-MODIFIED:20240404T224957Z
UID:716-1679171400-1679171400@www.mattarmstrongimprov.com
SUMMARY:The Remarkable Case of
DESCRIPTION:A murder mystery with a difference.\nYou’ll get to see the final Whodunnit scene at the start of the show and then the improv actors will take you back to the start so you can see how it all happened. And remember it’s 100% improvised! For lovers of Agatha Christie and all good murder mysteries.
URL:https://www.mattarmstrongimprov.com/calendar/__trashed-11/
LOCATION:Covert Theatre\, 51 MacKelvie Street\, Auckland\, New Zealand
CATEGORIES:Directing
END:VEVENT
BEGIN:VEVENT
DTSTART;TZID=Pacific/Auckland:20230311T203000
DTEND;TZID=Pacific/Auckland:20230311T203000
DTSTAMP:20260424T223014
CREATED:20240404T224957Z
LAST-MODIFIED:20240404T224957Z
UID:713-1678566600-1678566600@www.mattarmstrongimprov.com
SUMMARY:The Remarkable Case of
DESCRIPTION:A murder mystery with a difference.\nYou’ll get to see the final Whodunnit scene at the start of the show and then the improv actors will take you back to the start so you can see how it all happened. And remember it’s 100% improvised! For lovers of Agatha Christie and all good murder mysteries.
URL:https://www.mattarmstrongimprov.com/calendar/__trashed-14/
LOCATION:Covert Theatre\, 51 MacKelvie Street\, Auckland\, New Zealand
CATEGORIES:Directing
END:VEVENT
BEGIN:VEVENT
DTSTART;TZID=Pacific/Auckland:20230310T213000
DTEND;TZID=Pacific/Auckland:20230310T213000
DTSTAMP:20260424T223014
CREATED:20240404T224957Z
LAST-MODIFIED:20240404T224957Z
UID:712-1678483800-1678483800@www.mattarmstrongimprov.com
SUMMARY:Fother Muckers
DESCRIPTION:The Fother Muckers is a live unscripted puppet show for adults\, a cross between Graham Norton and Jerry Springer where you\, the audience\, will help write the questions you want the characters to answer each night.\nBut\, be warned\, the foul-mouthed Fother Muckers will interrogate the audience\, so YOU better bring your A game!
URL:https://www.mattarmstrongimprov.com/calendar/__trashed-15/
LOCATION:Covert Theatre\, 51 MacKelvie Street\, Auckland\, New Zealand
CATEGORIES:Directing
END:VEVENT
BEGIN:VEVENT
DTSTART;TZID=Pacific/Auckland:20230308T193000
DTEND;TZID=Pacific/Auckland:20230308T193000
DTSTAMP:20260424T223014
CREATED:20240404T220950Z
LAST-MODIFIED:20240404T220950Z
UID:772-1678303800-1678303800@www.mattarmstrongimprov.com
SUMMARY:Remarkable Case of
DESCRIPTION:A murder mystery with a difference.\nYou’ll get to see the final Whodunnit scene at the start of the show and then the improv actors will take you back to the start so you can see how it all happened. And remember it’s 100% improvised! For lovers of Agatha Christie and all good murder mysteries.
URL:https://www.mattarmstrongimprov.com/calendar/remarkable-case-of-2/
LOCATION:Covert Theatre\, 51 MacKelvie Street\, Auckland\, New Zealand
CATEGORIES:Directing
END:VEVENT
END:VCALENDAR