BEGIN:VCALENDAR
VERSION:2.0
PRODID:-//Matt Armstrong Improv - ECPv6.15.20//NONSGML v1.0//EN
CALSCALE:GREGORIAN
METHOD:PUBLISH
X-WR-CALNAME:Matt Armstrong Improv
X-ORIGINAL-URL:https://www.mattarmstrongimprov.com
X-WR-CALDESC:Events for Matt Armstrong Improv
REFRESH-INTERVAL;VALUE=DURATION:PT1H
X-Robots-Tag:noindex
X-PUBLISHED-TTL:PT1H
BEGIN:VTIMEZONE
TZID:Pacific/Auckland
BEGIN:STANDARD
TZOFFSETFROM:+1300
TZOFFSETTO:+1200
TZNAME:NZST
DTSTART:20230401T140000
END:STANDARD
BEGIN:DAYLIGHT
TZOFFSETFROM:+1200
TZOFFSETTO:+1300
TZNAME:NZDT
DTSTART:20230923T140000
END:DAYLIGHT
BEGIN:STANDARD
TZOFFSETFROM:+1300
TZOFFSETTO:+1200
TZNAME:NZST
DTSTART:20240406T140000
END:STANDARD
BEGIN:DAYLIGHT
TZOFFSETFROM:+1200
TZOFFSETTO:+1300
TZNAME:NZDT
DTSTART:20240928T140000
END:DAYLIGHT
BEGIN:STANDARD
TZOFFSETFROM:+1300
TZOFFSETTO:+1200
TZNAME:NZST
DTSTART:20250405T140000
END:STANDARD
BEGIN:DAYLIGHT
TZOFFSETFROM:+1200
TZOFFSETTO:+1300
TZNAME:NZDT
DTSTART:20250927T140000
END:DAYLIGHT
BEGIN:STANDARD
TZOFFSETFROM:+1300
TZOFFSETTO:+1200
TZNAME:NZST
DTSTART:20260404T140000
END:STANDARD
BEGIN:DAYLIGHT
TZOFFSETFROM:+1200
TZOFFSETTO:+1300
TZNAME:NZDT
DTSTART:20260926T140000
END:DAYLIGHT
END:VTIMEZONE
BEGIN:VEVENT
DTSTART;TZID=Pacific/Auckland:20250524T220000
DTEND;TZID=Pacific/Auckland:20250524T220000
DTSTAMP:20260424T110352
CREATED:20250819T222814Z
LAST-MODIFIED:20250819T222814Z
UID:1143-1748124000-1748124000@www.mattarmstrongimprov.com
SUMMARY:The Fother Muckers
DESCRIPTION:The Fother Muckers is a live unscripted puppet show for adults\, a cross between Graham Norton and Jerry Springer where you\, the audience\, will help write the questions you want the characters to answer each night. \nBut\, be warned\, the foul-mouthed Fother Muckers will interrogate the audience\, so YOU better bring your A game!
URL:https://www.mattarmstrongimprov.com/calendar/the-fother-muckers-8/
LOCATION:Covert Theatre\, 51 MacKelvie Street\, Auckland\, New Zealand
CATEGORIES:Performing
END:VEVENT
BEGIN:VEVENT
DTSTART;TZID=Pacific/Auckland:20250523T220000
DTEND;TZID=Pacific/Auckland:20250523T220000
DTSTAMP:20260424T110352
CREATED:20250819T222812Z
LAST-MODIFIED:20250819T222812Z
UID:1142-1748037600-1748037600@www.mattarmstrongimprov.com
SUMMARY:The Fother Muckers
DESCRIPTION:The Fother Muckers is a live unscripted puppet show for adults\, a cross between Graham Norton and Jerry Springer where you\, the audience\, will help write the questions you want the characters to answer each night. \nBut\, be warned\, the foul-mouthed Fother Muckers will interrogate the audience\, so YOU better bring your A game!
URL:https://www.mattarmstrongimprov.com/calendar/the-fother-muckers-7/
LOCATION:Covert Theatre\, 51 MacKelvie Street\, Auckland\, New Zealand
CATEGORIES:Performing
END:VEVENT
BEGIN:VEVENT
DTSTART;TZID=Pacific/Auckland:20250522T220000
DTEND;TZID=Pacific/Auckland:20250522T220000
DTSTAMP:20260424T110352
CREATED:20250819T222811Z
LAST-MODIFIED:20250819T222811Z
UID:1141-1747951200-1747951200@www.mattarmstrongimprov.com
SUMMARY:The Fother Muckers
DESCRIPTION:The Fother Muckers is a live unscripted puppet show for adults\, a cross between Graham Norton and Jerry Springer where you\, the audience\, will help write the questions you want the characters to answer each night. \nBut\, be warned\, the foul-mouthed Fother Muckers will interrogate the audience\, so YOU better bring your A game!
URL:https://www.mattarmstrongimprov.com/calendar/the-fother-muckers-6/
LOCATION:Covert Theatre\, 51 MacKelvie Street\, Auckland\, New Zealand
CATEGORIES:Performing
END:VEVENT
BEGIN:VEVENT
DTSTART;TZID=Pacific/Auckland:20250301T203000
DTEND;TZID=Pacific/Auckland:20250301T203000
DTSTAMP:20260424T110352
CREATED:20250819T222811Z
LAST-MODIFIED:20250819T222811Z
UID:1140-1740861000-1740861000@www.mattarmstrongimprov.com
SUMMARY:The Fother Muckers
DESCRIPTION:The Fother Muckers is a live unscripted puppet show for adults\, a cross between Graham Norton and Jerry Springer where you\, the audience\, will help write the questions you want the characters to answer each night. \nBut\, be warned\, the foul-mouthed Fother Muckers will interrogate the audience\, so YOU better bring your A game!
URL:https://www.mattarmstrongimprov.com/calendar/the-fother-muckers-5/
CATEGORIES:Performing
END:VEVENT
BEGIN:VEVENT
DTSTART;TZID=Pacific/Auckland:20250228T203000
DTEND;TZID=Pacific/Auckland:20250228T203000
DTSTAMP:20260424T110352
CREATED:20250819T222810Z
LAST-MODIFIED:20250819T222810Z
UID:1139-1740774600-1740774600@www.mattarmstrongimprov.com
SUMMARY:The Fother Muckers
DESCRIPTION:The Fother Muckers is a live unscripted puppet show for adults\, a cross between Graham Norton and Jerry Springer where you\, the audience\, will help write the questions you want the characters to answer each night. \nBut\, be warned\, the foul-mouthed Fother Muckers will interrogate the audience\, so YOU better bring your A game!
URL:https://www.mattarmstrongimprov.com/calendar/the-fother-muckers-4/
CATEGORIES:Performing
END:VEVENT
BEGIN:VEVENT
DTSTART;TZID=Pacific/Auckland:20250227T203000
DTEND;TZID=Pacific/Auckland:20250227T203000
DTSTAMP:20260424T110352
CREATED:20250819T222807Z
LAST-MODIFIED:20250819T222807Z
UID:1138-1740688200-1740688200@www.mattarmstrongimprov.com
SUMMARY:The Fother Muckers
DESCRIPTION:The Fother Muckers is a live unscripted puppet show for adults\, a cross between Graham Norton and Jerry Springer where you\, the audience\, will help write the questions you want the characters to answer each night. \nBut\, be warned\, the foul-mouthed Fother Muckers will interrogate the audience\, so YOU better bring your A game!
URL:https://www.mattarmstrongimprov.com/calendar/the-fother-muckers-3/
CATEGORIES:Performing
END:VEVENT
BEGIN:VEVENT
DTSTART;TZID=Pacific/Auckland:20240413T190000
DTEND;TZID=Pacific/Auckland:20240413T203000
DTSTAMP:20260424T110352
CREATED:20240409T053326Z
LAST-MODIFIED:20240409T053326Z
UID:1082-1713034800-1713040200@www.mattarmstrongimprov.com
SUMMARY:The Remarkable Case Of...
DESCRIPTION:
URL:https://www.mattarmstrongimprov.com/calendar/the-remarkable-case-of-13/
CATEGORIES:Performing
END:VEVENT
BEGIN:VEVENT
DTSTART;VALUE=DATE:20240413
DTEND;VALUE=DATE:20240422
DTSTAMP:20260424T110352
CREATED:20240324T085040Z
LAST-MODIFIED:20240409T054922Z
UID:570-1712966400-1713743999@www.mattarmstrongimprov.com
SUMMARY:Auckland Improv Festival
DESCRIPTION:Attending workshops everyday!  Performing sometimes!  Directing too\, perhaps!
URL:https://www.mattarmstrongimprov.com/calendar/auckland-improv-festival/
LOCATION:Covert Theatre\, 51 MacKelvie Street\, Auckland\, New Zealand
CATEGORIES:Attending,Performing,Teaching
END:VEVENT
BEGIN:VEVENT
DTSTART;TZID=Pacific/Auckland:20240412T220000
DTEND;TZID=Pacific/Auckland:20240412T230000
DTSTAMP:20260424T110352
CREATED:20240409T053722Z
LAST-MODIFIED:20240409T053722Z
UID:1087-1712959200-1712962800@www.mattarmstrongimprov.com
SUMMARY:The Fother Muckers
DESCRIPTION:The Fother Muckers is a live unscripted puppet show for adults\, a cross between Graham Norton and Jerry Springer where you\, the audience\, will help write the questions you want the characters to answer each night.\nBut\, be warned\, the foul-mouthed Fother Muckers will interrogate the audience\, so YOU better bring your A game!
URL:https://www.mattarmstrongimprov.com/calendar/the-fother-muckers-2-2/
LOCATION:Covert Theatre\, 51 MacKelvie Street\, Auckland\, New Zealand
CATEGORIES:Performing
END:VEVENT
BEGIN:VEVENT
DTSTART;TZID=Pacific/Auckland:20240411T200000
DTEND;TZID=Pacific/Auckland:20240411T210000
DTSTAMP:20260424T110352
CREATED:20240409T053443Z
LAST-MODIFIED:20240409T053443Z
UID:1085-1712865600-1712869200@www.mattarmstrongimprov.com
SUMMARY:Improv Jukebox
DESCRIPTION:A workshop show where the Covert community try out new styles\, scenes\, games\, and who knows what else? Drop your coin and see what the jukebox plays
URL:https://www.mattarmstrongimprov.com/calendar/improv-jukebox-14-2/
LOCATION:Covert Theatre\, 51 MacKelvie Street\, Auckland\, New Zealand
CATEGORIES:Performing
END:VEVENT
BEGIN:VEVENT
DTSTART;TZID=Pacific/Auckland:20240322T203000
DTEND;TZID=Pacific/Auckland:20240322T213000
DTSTAMP:20260424T110352
CREATED:20240320T132226Z
LAST-MODIFIED:20240404T225233Z
UID:74-1711139400-1711143000@www.mattarmstrongimprov.com
SUMMARY:Jester (Director)
DESCRIPTION:Good old fashioned short-form improvised comedy\nJester is the show where we put our newbies on stage with some of our old hands. It’s a family friendly comedy show in the style of TV’s Whose Line Is It Anyway? Improvisers are called up to perform scenes\, sagas and songs based on the audience’s suggestions all vying to be crowned the Jester. Always different\, always fun! \n“Sheer madcap wit and an energetic\, slapdash hour of fun.” Theatreview \n“Come armed with your funny bone and some unique suggestions for the performers who are guaranteed to leave you grinning from ear to ear before the night is done.”
URL:https://www.mattarmstrongimprov.com/calendar/jester-director-22-03-24/
LOCATION:Covert Theatre\, 51 MacKelvie Street\, Auckland\, New Zealand
CATEGORIES:Performing
END:VEVENT
BEGIN:VEVENT
DTSTART;TZID=Pacific/Auckland:20240317T171500
DTEND;TZID=Pacific/Auckland:20240317T171500
DTSTAMP:20260424T110352
CREATED:20240404T230640Z
LAST-MODIFIED:20240404T230640Z
UID:997-1710695700-1710695700@www.mattarmstrongimprov.com
SUMMARY:Rookie Improv Night
DESCRIPTION:
URL:https://www.mattarmstrongimprov.com/calendar/rookie-improv-night-2/
LOCATION:Covert Theatre\, 51 MacKelvie Street\, Auckland\, New Zealand
CATEGORIES:Performing
END:VEVENT
BEGIN:VEVENT
DTSTART;TZID=Pacific/Auckland:20240316T200000
DTEND;TZID=Pacific/Auckland:20240316T200000
DTSTAMP:20260424T110352
CREATED:20240404T230640Z
LAST-MODIFIED:20240404T230640Z
UID:996-1710619200-1710619200@www.mattarmstrongimprov.com
SUMMARY:Ferris Wheel
DESCRIPTION:Ferris Wheel – revolutionary comedy \nA character-driven improvised comedy show set at the top of a Ferris Wheel. With separate storylines that revolve every 2-minutes it’s kind of like Pulp Fiction but with a lot less blood.  \nAn ingeniously versatile premise… essentially delightful. Theatreview
URL:https://www.mattarmstrongimprov.com/calendar/ferris-wheel-6/
LOCATION:Covert Theatre\, 51 MacKelvie Street\, Auckland\, New Zealand
CATEGORIES:Performing
END:VEVENT
BEGIN:VEVENT
DTSTART;TZID=Pacific/Auckland:20240315T200000
DTEND;TZID=Pacific/Auckland:20240315T200000
DTSTAMP:20260424T110352
CREATED:20240404T230640Z
LAST-MODIFIED:20240404T230640Z
UID:995-1710532800-1710532800@www.mattarmstrongimprov.com
SUMMARY:Ferris Wheel
DESCRIPTION:Ferris Wheel – revolutionary comedy \nA character-driven improvised comedy show set at the top of a Ferris Wheel. With separate storylines that revolve every 2-minutes it’s kind of like Pulp Fiction but with a lot less blood.  \nAn ingeniously versatile premise… essentially delightful. Theatreview
URL:https://www.mattarmstrongimprov.com/calendar/ferris-wheel-7/
LOCATION:Covert Theatre\, 51 MacKelvie Street\, Auckland\, New Zealand
CATEGORIES:Performing
END:VEVENT
BEGIN:VEVENT
DTSTART;TZID=Pacific/Auckland:20240314T200000
DTEND;TZID=Pacific/Auckland:20240314T200000
DTSTAMP:20260424T110352
CREATED:20240404T230640Z
LAST-MODIFIED:20240404T230640Z
UID:994-1710446400-1710446400@www.mattarmstrongimprov.com
SUMMARY:Improv Jukebox
DESCRIPTION:A workshop show where the Covert community try out new styles\, scenes\, games\, and who knows what else? Drop your coin and see what the jukebox plays
URL:https://www.mattarmstrongimprov.com/calendar/improv-jukebox-13/
LOCATION:Covert Theatre\, 51 MacKelvie Street\, Auckland\, New Zealand
CATEGORIES:Performing
END:VEVENT
BEGIN:VEVENT
DTSTART;VALUE=DATE:20240314
DTEND;VALUE=DATE:20240317
DTSTAMP:20260424T110352
CREATED:20240409T051744Z
LAST-MODIFIED:20240409T051744Z
UID:1061-1710374400-1710633599@www.mattarmstrongimprov.com
SUMMARY:Fun Size Festival
DESCRIPTION:
URL:https://www.mattarmstrongimprov.com/calendar/fun-size-festival-2/
LOCATION:Covert Theatre\, 51 MacKelvie Street\, Auckland\, New Zealand
CATEGORIES:Directing,Performing
END:VEVENT
BEGIN:VEVENT
DTSTART;TZID=Pacific/Auckland:20240309T200000
DTEND;TZID=Pacific/Auckland:20240309T210000
DTSTAMP:20260424T110352
CREATED:20240404T032802Z
LAST-MODIFIED:20240404T225234Z
UID:659-1710014400-1710018000@www.mattarmstrongimprov.com
SUMMARY:Living Room
DESCRIPTION:The Living Room\nThe show starts after a dinner party with friends who have adjourned to the living room. A topic is discussed and the instigation for rollicking good time of improvised scenes that take you to great comedic heights.  \n“Come armed with your funny bone and some unique suggestions for the performers who are guaranteed to leave you grinning from ear to ear before the night is done.” NZ Entertainment Podcast
URL:https://www.mattarmstrongimprov.com/calendar/living-room-8/
LOCATION:Covert Theatre\, 51 MacKelvie Street\, Auckland\, New Zealand
CATEGORIES:Performing
END:VEVENT
BEGIN:VEVENT
DTSTART;TZID=Pacific/Auckland:20240309T200000
DTEND;TZID=Pacific/Auckland:20240309T200000
DTSTAMP:20260424T110352
CREATED:20240404T230641Z
LAST-MODIFIED:20240404T230641Z
UID:993-1710014400-1710014400@www.mattarmstrongimprov.com
SUMMARY:Living Room
DESCRIPTION:The Living Room\nThe show starts after a dinner party with friends who have adjourned to the living room. A topic is discussed and the instigation for rollicking good time of improvised scenes that take you to great comedic heights.  \nCome armed with your funny bone and some unique suggestions for the performers who are guaranteed to leave you grinning from ear to ear before the night is done. NZ Entertainment Podcast
URL:https://www.mattarmstrongimprov.com/calendar/living-room-13/
LOCATION:Covert Theatre\, 51 MacKelvie Street\, Auckland\, New Zealand
CATEGORIES:Performing
END:VEVENT
BEGIN:VEVENT
DTSTART;TZID=Pacific/Auckland:20240308T200000
DTEND;TZID=Pacific/Auckland:20240308T210000
DTSTAMP:20260424T110352
CREATED:20240404T032802Z
LAST-MODIFIED:20240404T225234Z
UID:658-1709928000-1709931600@www.mattarmstrongimprov.com
SUMMARY:Living Room
DESCRIPTION:The Living Room\nThe show starts after a dinner party with friends who have adjourned to the living room. A topic is discussed and the instigation for rollicking good time of improvised scenes that take you to great comedic heights.  \n“Come armed with your funny bone and some unique suggestions for the performers who are guaranteed to leave you grinning from ear to ear before the night is done.” NZ Entertainment Podcast
URL:https://www.mattarmstrongimprov.com/calendar/living-room-7/
LOCATION:Covert Theatre\, 51 MacKelvie Street\, Auckland\, New Zealand
CATEGORIES:Performing
END:VEVENT
BEGIN:VEVENT
DTSTART;TZID=Pacific/Auckland:20240308T200000
DTEND;TZID=Pacific/Auckland:20240308T200000
DTSTAMP:20260424T110352
CREATED:20240404T230641Z
LAST-MODIFIED:20240404T230641Z
UID:992-1709928000-1709928000@www.mattarmstrongimprov.com
SUMMARY:Living Room
DESCRIPTION:The Living Room\nThe show starts after a dinner party with friends who have adjourned to the living room. A topic is discussed and the instigation for rollicking good time of improvised scenes that take you to great comedic heights.  \nCome armed with your funny bone and some unique suggestions for the performers who are guaranteed to leave you grinning from ear to ear before the night is done. NZ Entertainment Podcast
URL:https://www.mattarmstrongimprov.com/calendar/living-room-14/
LOCATION:Covert Theatre\, 51 MacKelvie Street\, Auckland\, New Zealand
CATEGORIES:Performing
END:VEVENT
BEGIN:VEVENT
DTSTART;TZID=Pacific/Auckland:20240307T200000
DTEND;TZID=Pacific/Auckland:20240307T200000
DTSTAMP:20260424T110352
CREATED:20240404T230641Z
LAST-MODIFIED:20240404T230641Z
UID:991-1709841600-1709841600@www.mattarmstrongimprov.com
SUMMARY:Improv Jukebox
DESCRIPTION:A workshop show where the Covert community try out new styles\, scenes\, games\, and who knows what else? Drop your coin and see what the jukebox plays
URL:https://www.mattarmstrongimprov.com/calendar/improv-jukebox-14/
LOCATION:Covert Theatre\, 51 MacKelvie Street\, Auckland\, New Zealand
CATEGORIES:Performing
END:VEVENT
BEGIN:VEVENT
DTSTART;VALUE=DATE:20240307
DTEND;VALUE=DATE:20240310
DTSTAMP:20260424T110352
CREATED:20240409T051715Z
LAST-MODIFIED:20240409T051715Z
UID:1059-1709769600-1710028799@www.mattarmstrongimprov.com
SUMMARY:Fun Size Festival
DESCRIPTION:
URL:https://www.mattarmstrongimprov.com/calendar/fun-size-festival/
LOCATION:Covert Theatre\, 51 MacKelvie Street\, Auckland\, New Zealand
CATEGORIES:Directing,Performing
END:VEVENT
BEGIN:VEVENT
DTSTART;TZID=Pacific/Auckland:20240301T220000
DTEND;TZID=Pacific/Auckland:20240301T220000
DTSTAMP:20260424T110352
CREATED:20240404T230641Z
LAST-MODIFIED:20240404T230641Z
UID:990-1709330400-1709330400@www.mattarmstrongimprov.com
SUMMARY:The Fother Muckers
DESCRIPTION:The Fother Muckers is a live unscripted puppet show for adults\, a cross between Graham Norton and Jerry Springer where you\, the audience\, will help write the questions you want the characters to answer each night.\nBut\, be warned\, the foul-mouthed Fother Muckers will interrogate the audience\, so YOU better bring your A game!
URL:https://www.mattarmstrongimprov.com/calendar/the-fother-muckers/
LOCATION:Covert Theatre\, 51 MacKelvie Street\, Auckland\, New Zealand
CATEGORIES:Performing
END:VEVENT
BEGIN:VEVENT
DTSTART;TZID=Pacific/Auckland:20240229T200000
DTEND;TZID=Pacific/Auckland:20240229T200000
DTSTAMP:20260424T110352
CREATED:20240404T230641Z
LAST-MODIFIED:20240404T230641Z
UID:989-1709236800-1709236800@www.mattarmstrongimprov.com
SUMMARY:Improv Jukebox
DESCRIPTION:A workshop show where the Covert community try out new styles\, scenes\, games\, and who knows what else? Drop your coin and see what the jukebox plays
URL:https://www.mattarmstrongimprov.com/calendar/improv-jukebox-15/
LOCATION:Covert Theatre\, 51 MacKelvie Street\, Auckland\, New Zealand
CATEGORIES:Performing
END:VEVENT
BEGIN:VEVENT
DTSTART;TZID=Pacific/Auckland:20240222T200000
DTEND;TZID=Pacific/Auckland:20240222T200000
DTSTAMP:20260424T110352
CREATED:20240404T230641Z
LAST-MODIFIED:20240404T230641Z
UID:988-1708632000-1708632000@www.mattarmstrongimprov.com
SUMMARY:Improv Jukebox
DESCRIPTION:A workshop show where the Covert community try out new styles\, scenes\, games\, and who knows what else? Drop your coin and see what the jukebox plays
URL:https://www.mattarmstrongimprov.com/calendar/improv-jukebox-16/
LOCATION:Covert Theatre\, 51 MacKelvie Street\, Auckland\, New Zealand
CATEGORIES:Performing
END:VEVENT
BEGIN:VEVENT
DTSTART;TZID=Pacific/Auckland:20240218T171500
DTEND;TZID=Pacific/Auckland:20240218T171500
DTSTAMP:20260424T110352
CREATED:20240404T230641Z
LAST-MODIFIED:20240404T230641Z
UID:987-1708276500-1708276500@www.mattarmstrongimprov.com
SUMMARY:Rookie Improv Night
DESCRIPTION:
URL:https://www.mattarmstrongimprov.com/calendar/rookie-improv-night-3/
LOCATION:Covert Theatre\, 51 MacKelvie Street\, Auckland\, New Zealand
CATEGORIES:Performing
END:VEVENT
BEGIN:VEVENT
DTSTART;TZID=Pacific/Auckland:20240216T200000
DTEND;TZID=Pacific/Auckland:20240216T200000
DTSTAMP:20260424T110352
CREATED:20240404T230641Z
LAST-MODIFIED:20240404T230641Z
UID:986-1708113600-1708113600@www.mattarmstrongimprov.com
SUMMARY:Jester
DESCRIPTION:Jester – fresh comedy every time\nThis is a fast and furious improv comedy show in the style of TV’s Whose Line Is It Anyway? Improvisers are called up to perform scenes\, sagas and songs all based on the audience’s suggestions.  \nSheer madcap wit and an energetic slapdash hour of fun. Theatreview \n\nCome armed with your funny bone and some unique suggestions for the performers who are guaranteed to leave you grinning from ear to ear before the night is done. NZ Entertainment Podcast>
URL:https://www.mattarmstrongimprov.com/calendar/jester-18/
LOCATION:Covert Theatre\, 51 MacKelvie Street\, Auckland\, New Zealand
CATEGORIES:Performing
END:VEVENT
BEGIN:VEVENT
DTSTART;TZID=Pacific/Auckland:20240216T181500
DTEND;TZID=Pacific/Auckland:20240216T181500
DTSTAMP:20260424T110352
CREATED:20240404T230641Z
LAST-MODIFIED:20240404T230641Z
UID:985-1708107300-1708107300@www.mattarmstrongimprov.com
SUMMARY:The Remarkable Case of
DESCRIPTION:A murder mystery with a difference.\nYou’ll get to see the final Whodunnit scene at the start of the show and then the improv actors will take you back to the start so you can see how it all happened. And remember it’s 100% improvised! For lovers of Agatha Christie and all good murder mysteries.
URL:https://www.mattarmstrongimprov.com/calendar/the-remarkable-case-of-11/
LOCATION:Covert Theatre\, 51 MacKelvie Street\, Auckland\, New Zealand
CATEGORIES:Performing
END:VEVENT
BEGIN:VEVENT
DTSTART;TZID=Pacific/Auckland:20240215T200000
DTEND;TZID=Pacific/Auckland:20240215T200000
DTSTAMP:20260424T110352
CREATED:20240404T230641Z
LAST-MODIFIED:20240404T230641Z
UID:984-1708027200-1708027200@www.mattarmstrongimprov.com
SUMMARY:Improv Jukebox
DESCRIPTION:A workshop show where the Covert community try out new styles\, scenes\, games\, and who knows what else? Drop your coin and see what the jukebox plays
URL:https://www.mattarmstrongimprov.com/calendar/improv-jukebox-17/
LOCATION:Covert Theatre\, 51 MacKelvie Street\, Auckland\, New Zealand
CATEGORIES:Performing
END:VEVENT
BEGIN:VEVENT
DTSTART;TZID=Pacific/Auckland:20240215T181500
DTEND;TZID=Pacific/Auckland:20240215T181500
DTSTAMP:20260424T110352
CREATED:20240404T230641Z
LAST-MODIFIED:20240404T230641Z
UID:983-1708020900-1708020900@www.mattarmstrongimprov.com
SUMMARY:The Remarkable Case of
DESCRIPTION:A murder mystery with a difference.\nYou’ll get to see the final Whodunnit scene at the start of the show and then the improv actors will take you back to the start so you can see how it all happened. And remember it’s 100% improvised! For lovers of Agatha Christie and all good murder mysteries.
URL:https://www.mattarmstrongimprov.com/calendar/the-remarkable-case-of-12/
LOCATION:Covert Theatre\, 51 MacKelvie Street\, Auckland\, New Zealand
CATEGORIES:Performing
END:VEVENT
END:VCALENDAR