BEGIN:VCALENDAR
VERSION:2.0
PRODID:-//Matt Armstrong Improv - ECPv6.15.20//NONSGML v1.0//EN
CALSCALE:GREGORIAN
METHOD:PUBLISH
X-ORIGINAL-URL:https://www.mattarmstrongimprov.com
X-WR-CALDESC:Events for Matt Armstrong Improv
REFRESH-INTERVAL;VALUE=DURATION:PT1H
X-Robots-Tag:noindex
X-PUBLISHED-TTL:PT1H
BEGIN:VTIMEZONE
TZID:Pacific/Auckland
BEGIN:STANDARD
TZOFFSETFROM:+1300
TZOFFSETTO:+1200
TZNAME:NZST
DTSTART:20220402T140000
END:STANDARD
BEGIN:DAYLIGHT
TZOFFSETFROM:+1200
TZOFFSETTO:+1300
TZNAME:NZDT
DTSTART:20220924T140000
END:DAYLIGHT
BEGIN:STANDARD
TZOFFSETFROM:+1300
TZOFFSETTO:+1200
TZNAME:NZST
DTSTART:20230401T140000
END:STANDARD
BEGIN:DAYLIGHT
TZOFFSETFROM:+1200
TZOFFSETTO:+1300
TZNAME:NZDT
DTSTART:20230923T140000
END:DAYLIGHT
BEGIN:STANDARD
TZOFFSETFROM:+1300
TZOFFSETTO:+1200
TZNAME:NZST
DTSTART:20240406T140000
END:STANDARD
BEGIN:DAYLIGHT
TZOFFSETFROM:+1200
TZOFFSETTO:+1300
TZNAME:NZDT
DTSTART:20240928T140000
END:DAYLIGHT
END:VTIMEZONE
BEGIN:VEVENT
DTSTART;TZID=Pacific/Auckland:20230810T203500
DTEND;TZID=Pacific/Auckland:20230810T203500
DTSTAMP:20260424T205308
CREATED:20240404T225535Z
LAST-MODIFIED:20240404T225535Z
UID:936-1691699700-1691699700@www.mattarmstrongimprov.com
SUMMARY:Improv Jukebox
DESCRIPTION:A workshop show where the Covert community try out new styles\, scenes\, games\, and who knows what else? Drop your coin and see what the jukebox plays
URL:https://www.mattarmstrongimprov.com/calendar/improv-jukebox-10/
LOCATION:Covert Theatre\, 51 MacKelvie Street\, Auckland\, New Zealand
CATEGORIES:Performing
END:VEVENT
BEGIN:VEVENT
DTSTART;TZID=Pacific/Auckland:20230810T184500
DTEND;TZID=Pacific/Auckland:20230810T184500
DTSTAMP:20260424T205308
CREATED:20240404T225535Z
LAST-MODIFIED:20240404T225535Z
UID:935-1691693100-1691693100@www.mattarmstrongimprov.com
SUMMARY:Remarkable Case of
DESCRIPTION:A murder mystery with a difference.\nYou’ll get to see the final Whodunnit scene at the start of the show and then the improv actors will take you back to the start so you can see how it all happened. And remember it’s 100% improvised! For lovers of Agatha Christie and all good murder mysteries.
URL:https://www.mattarmstrongimprov.com/calendar/remarkable-case-of-7/
LOCATION:Covert Theatre\, 51 MacKelvie Street\, Auckland\, New Zealand
CATEGORIES:Performing
END:VEVENT
BEGIN:VEVENT
DTSTART;TZID=Pacific/Auckland:20230809T200500
DTEND;TZID=Pacific/Auckland:20230809T200500
DTSTAMP:20260424T205308
CREATED:20240404T221722Z
LAST-MODIFIED:20240404T221804Z
UID:799-1691611500-1691611500@www.mattarmstrongimprov.com
SUMMARY:Perfect Match
DESCRIPTION:Perfect Match – the speed dating show with a conscience \nEver wondered what was going on in people’s heads while speed dating? Now you can get that insight with the dating show with a conscience. Laugh at the human condition. It’s either that or cry!
URL:https://www.mattarmstrongimprov.com/calendar/perfect-match/
LOCATION:Covert Theatre\, 51 MacKelvie Street\, Auckland\, New Zealand
CATEGORIES:Performing
END:VEVENT
BEGIN:VEVENT
DTSTART;TZID=Pacific/Auckland:20230805T203500
DTEND;TZID=Pacific/Auckland:20230805T203500
DTSTAMP:20260424T205308
CREATED:20240404T225535Z
LAST-MODIFIED:20240404T225535Z
UID:934-1691267700-1691267700@www.mattarmstrongimprov.com
SUMMARY:Improv Magic
DESCRIPTION:Improv Magic – NOT a magic show!\nThe show starts with an invocation and once the conjuring is complete\, the cast then bedazzle you with some improv magic. The entire show is a display of comedy that’s as clever as it is funny. It’s a night of mystery… a night of great heights… a night you won’t forget!
URL:https://www.mattarmstrongimprov.com/calendar/improv-magic-6/
LOCATION:Covert Theatre\, 51 MacKelvie Street\, Auckland\, New Zealand
CATEGORIES:Performing
END:VEVENT
BEGIN:VEVENT
DTSTART;TZID=Pacific/Auckland:20230804T203500
DTEND;TZID=Pacific/Auckland:20230804T203500
DTSTAMP:20260424T205308
CREATED:20240404T225535Z
LAST-MODIFIED:20240404T225535Z
UID:933-1691181300-1691181300@www.mattarmstrongimprov.com
SUMMARY:Improv Magic
DESCRIPTION:Improv Magic – NOT a magic show!\nThe show starts with an invocation and once the conjuring is complete\, the cast then bedazzle you with some improv magic. The entire show is a display of comedy that’s as clever as it is funny. It’s a night of mystery… a night of great heights… a night you won’t forget!
URL:https://www.mattarmstrongimprov.com/calendar/improv-magic-7/
LOCATION:Covert Theatre\, 51 MacKelvie Street\, Auckland\, New Zealand
CATEGORIES:Performing
END:VEVENT
BEGIN:VEVENT
DTSTART;TZID=Pacific/Auckland:20230803T203500
DTEND;TZID=Pacific/Auckland:20230803T203500
DTSTAMP:20260424T205308
CREATED:20240404T225535Z
LAST-MODIFIED:20240404T225535Z
UID:932-1691094900-1691094900@www.mattarmstrongimprov.com
SUMMARY:Improv Jukebox
DESCRIPTION:A workshop show where the Covert community try out new styles\, scenes\, games\, and who knows what else? Drop your coin and see what the jukebox plays
URL:https://www.mattarmstrongimprov.com/calendar/improv-jukebox-11/
LOCATION:Covert Theatre\, 51 MacKelvie Street\, Auckland\, New Zealand
CATEGORIES:Performing
END:VEVENT
BEGIN:VEVENT
DTSTART;TZID=Pacific/Auckland:20230706T203500
DTEND;TZID=Pacific/Auckland:20230706T203500
DTSTAMP:20260424T205308
CREATED:20240404T225940Z
LAST-MODIFIED:20240404T225940Z
UID:965-1688675700-1688675700@www.mattarmstrongimprov.com
SUMMARY:Improv Jukebox
DESCRIPTION:A workshop show where the Covert community try out new styles\, scenes\, games\, and who knows what else? Drop your coin and see what the jukebox plays
URL:https://www.mattarmstrongimprov.com/calendar/improv-jukebox-12/
LOCATION:Covert Theatre\, 51 MacKelvie Street\, Auckland\, New Zealand
CATEGORIES:Performing
END:VEVENT
BEGIN:VEVENT
DTSTART;TZID=Pacific/Auckland:20230701T203500
DTEND;TZID=Pacific/Auckland:20230701T203500
DTSTAMP:20260424T205308
CREATED:20240404T225940Z
LAST-MODIFIED:20240404T225940Z
UID:964-1688243700-1688243700@www.mattarmstrongimprov.com
SUMMARY:Ferris Wheel
DESCRIPTION:Ferris Wheel – revolutionary comedy \nA character-driven improvised comedy show set at the top of a Ferris Wheel. With separate storylines that revolve every 2-minutes it’s kind of like Pulp Fiction but with a lot less blood.  \nAn ingeniously versatile premise… essentially delightful. Theatreview
URL:https://www.mattarmstrongimprov.com/calendar/ferris-wheel-4/
LOCATION:Covert Theatre\, 51 MacKelvie Street\, Auckland\, New Zealand
CATEGORIES:Performing
END:VEVENT
BEGIN:VEVENT
DTSTART;TZID=Pacific/Auckland:20230622T184500
DTEND;TZID=Pacific/Auckland:20230622T184500
DTSTAMP:20260424T205308
CREATED:20240404T225940Z
LAST-MODIFIED:20240404T225940Z
UID:963-1687459500-1687459500@www.mattarmstrongimprov.com
SUMMARY:Living Room
DESCRIPTION:The Living Room\nThe show starts after a dinner party with friends who have adjourned to the living room. A topic is discussed and the instigation for rollicking good time of improvised scenes that take you to great comedic heights.  \nCome armed with your funny bone and some unique suggestions for the performers who are guaranteed to leave you grinning from ear to ear before the night is done. NZ Entertainment Podcast
URL:https://www.mattarmstrongimprov.com/calendar/living-room-11/
LOCATION:Covert Theatre\, 51 MacKelvie Street\, Auckland\, New Zealand
CATEGORIES:Performing
END:VEVENT
BEGIN:VEVENT
DTSTART;TZID=Pacific/Auckland:20230616T184500
DTEND;TZID=Pacific/Auckland:20230616T184500
DTSTAMP:20260424T205308
CREATED:20240404T225940Z
LAST-MODIFIED:20240404T225940Z
UID:962-1686941100-1686941100@www.mattarmstrongimprov.com
SUMMARY:Comedy Clash
DESCRIPTION:
URL:https://www.mattarmstrongimprov.com/calendar/comedy-clash-4/
LOCATION:Covert Theatre\, 51 MacKelvie Street\, Auckland\, New Zealand
CATEGORIES:Performing
END:VEVENT
BEGIN:VEVENT
DTSTART;TZID=Pacific/Auckland:20230610T184500
DTEND;TZID=Pacific/Auckland:20230610T184500
DTSTAMP:20260424T205308
CREATED:20240404T225941Z
LAST-MODIFIED:20240404T225941Z
UID:960-1686422700-1686422700@www.mattarmstrongimprov.com
SUMMARY:Comedy Clash
DESCRIPTION:
URL:https://www.mattarmstrongimprov.com/calendar/comedy-clash-5/
LOCATION:Covert Theatre\, 51 MacKelvie Street\, Auckland\, New Zealand
CATEGORIES:Performing
END:VEVENT
BEGIN:VEVENT
DTSTART;TZID=Pacific/Auckland:20230604T203000
DTEND;TZID=Pacific/Auckland:20230604T203000
DTSTAMP:20260424T205308
CREATED:20240404T215935Z
LAST-MODIFIED:20240404T215935Z
UID:606-1685910600-1685910600@www.mattarmstrongimprov.com
SUMMARY:Improv Jukebox
DESCRIPTION:A workshop show where the Covert community try out new styles\, scenes\, games\, and who knows what else? Drop your coin and see what the jukebox plays
URL:https://www.mattarmstrongimprov.com/calendar/improv-jukebox/
LOCATION:Covert Theatre\, 51 MacKelvie Street\, Auckland\, New Zealand
CATEGORIES:Performing
END:VEVENT
BEGIN:VEVENT
DTSTART;TZID=Pacific/Auckland:20230603T203500
DTEND;TZID=Pacific/Auckland:20230603T203500
DTSTAMP:20260424T205308
CREATED:20240404T225941Z
LAST-MODIFIED:20240404T225941Z
UID:959-1685824500-1685824500@www.mattarmstrongimprov.com
SUMMARY:Living Room
DESCRIPTION:The Living Room\nThe show starts after a dinner party with friends who have adjourned to the living room. A topic is discussed and the instigation for rollicking good time of improvised scenes that take you to great comedic heights.  \nCome armed with your funny bone and some unique suggestions for the performers who are guaranteed to leave you grinning from ear to ear before the night is done. NZ Entertainment Podcast
URL:https://www.mattarmstrongimprov.com/calendar/living-room-12/
LOCATION:Covert Theatre\, 51 MacKelvie Street\, Auckland\, New Zealand
CATEGORIES:Performing
END:VEVENT
BEGIN:VEVENT
DTSTART;TZID=Pacific/Auckland:20230603T184500
DTEND;TZID=Pacific/Auckland:20230603T184500
DTSTAMP:20260424T205308
CREATED:20240404T225941Z
LAST-MODIFIED:20240404T225941Z
UID:958-1685817900-1685817900@www.mattarmstrongimprov.com
SUMMARY:Comedy Clash
DESCRIPTION:
URL:https://www.mattarmstrongimprov.com/calendar/comedy-clash-6/
LOCATION:Covert Theatre\, 51 MacKelvie Street\, Auckland\, New Zealand
CATEGORIES:Performing
END:VEVENT
BEGIN:VEVENT
DTSTART;TZID=Pacific/Auckland:20230602T184500
DTEND;TZID=Pacific/Auckland:20230602T184500
DTSTAMP:20260424T205308
CREATED:20240404T225941Z
LAST-MODIFIED:20240404T225941Z
UID:957-1685731500-1685731500@www.mattarmstrongimprov.com
SUMMARY:Comedy Clash
DESCRIPTION:
URL:https://www.mattarmstrongimprov.com/calendar/comedy-clash-7/
LOCATION:Covert Theatre\, 51 MacKelvie Street\, Auckland\, New Zealand
CATEGORIES:Performing
END:VEVENT
BEGIN:VEVENT
DTSTART;TZID=Pacific/Auckland:20230524T213500
DTEND;TZID=Pacific/Auckland:20230524T213500
DTSTAMP:20260424T205308
CREATED:20240404T225941Z
LAST-MODIFIED:20240404T225941Z
UID:956-1684964100-1684964100@www.mattarmstrongimprov.com
SUMMARY:Ferris Wheel
DESCRIPTION:Ferris Wheel – revolutionary comedy \nA character-driven improvised comedy show set at the top of a Ferris Wheel. With separate storylines that revolve every 2-minutes it’s kind of like Pulp Fiction but with a lot less blood.  \nAn ingeniously versatile premise… essentially delightful. Theatreview
URL:https://www.mattarmstrongimprov.com/calendar/ferris-wheel-5/
LOCATION:Covert Theatre\, 51 MacKelvie Street\, Auckland\, New Zealand
CATEGORIES:Performing
END:VEVENT
BEGIN:VEVENT
DTSTART;TZID=Pacific/Auckland:20230513T200500
DTEND;TZID=Pacific/Auckland:20230513T200500
DTSTAMP:20260424T205308
CREATED:20240404T224956Z
LAST-MODIFIED:20240404T224956Z
UID:891-1684008300-1684008300@www.mattarmstrongimprov.com
SUMMARY:The Remarkable Case of
DESCRIPTION:A murder mystery with a difference.\nYou’ll get to see the final Whodunnit scene at the start of the show and then the improv actors will take you back to the start so you can see how it all happened. And remember it’s 100% improvised! For lovers of Agatha Christie and all good murder mysteries.
URL:https://www.mattarmstrongimprov.com/calendar/the-remarkable-case-of-6/
LOCATION:Covert Theatre\, 51 MacKelvie Street\, Auckland\, New Zealand
CATEGORIES:Performing
END:VEVENT
BEGIN:VEVENT
DTSTART;TZID=Pacific/Auckland:20230512T200500
DTEND;TZID=Pacific/Auckland:20230512T200500
DTSTAMP:20260424T205308
CREATED:20240404T224956Z
LAST-MODIFIED:20240404T224956Z
UID:890-1683921900-1683921900@www.mattarmstrongimprov.com
SUMMARY:The Remarkable Case of
DESCRIPTION:A murder mystery with a difference.\nYou’ll get to see the final Whodunnit scene at the start of the show and then the improv actors will take you back to the start so you can see how it all happened. And remember it’s 100% improvised! For lovers of Agatha Christie and all good murder mysteries.
URL:https://www.mattarmstrongimprov.com/calendar/the-remarkable-case-of-7/
LOCATION:Covert Theatre\, 51 MacKelvie Street\, Auckland\, New Zealand
CATEGORIES:Performing
END:VEVENT
BEGIN:VEVENT
DTSTART;TZID=Pacific/Auckland:20230510T213500
DTEND;TZID=Pacific/Auckland:20230510T213500
DTSTAMP:20260424T205308
CREATED:20240404T224956Z
LAST-MODIFIED:20240404T224956Z
UID:888-1683754500-1683754500@www.mattarmstrongimprov.com
SUMMARY:Improv Magic
DESCRIPTION:Improv Magic – NOT a magic show!\nThe show starts with an invocation and once the conjuring is complete\, the cast then bedazzle you with some improv magic. The entire show is a display of comedy that’s as clever as it is funny. It’s a night of mystery… a night of great heights… a night you won’t forget!
URL:https://www.mattarmstrongimprov.com/calendar/improv-magic-3/
LOCATION:Covert Theatre\, 51 MacKelvie Street\, Auckland\, New Zealand
CATEGORIES:Performing
END:VEVENT
BEGIN:VEVENT
DTSTART;TZID=Pacific/Auckland:20230508T203500
DTEND;TZID=Pacific/Auckland:20230508T203500
DTSTAMP:20260424T205308
CREATED:20240404T220949Z
LAST-MODIFIED:20240404T220949Z
UID:775-1683578100-1683578100@www.mattarmstrongimprov.com
SUMMARY:Improv Magic
DESCRIPTION:Improv Magic – NOT a magic show!\nThe show starts with an invocation and once the conjuring is complete\, the cast then bedazzle you with some improv magic. The entire show is a display of comedy that’s as clever as it is funny. It’s a night of mystery… a night of great heights… a night you won’t forget!
URL:https://www.mattarmstrongimprov.com/calendar/improv-magic/
LOCATION:Covert Theatre\, 51 MacKelvie Street\, Auckland\, New Zealand
CATEGORIES:Performing
END:VEVENT
BEGIN:VEVENT
DTSTART;TZID=Pacific/Auckland:20230505T203500
DTEND;TZID=Pacific/Auckland:20230505T203500
DTSTAMP:20260424T205308
CREATED:20240404T224956Z
LAST-MODIFIED:20240404T224956Z
UID:887-1683318900-1683318900@www.mattarmstrongimprov.com
SUMMARY:Living Room
DESCRIPTION:The Living Room\nThe show starts after a dinner party with friends who have adjourned to the living room. A topic is discussed and the instigation for rollicking good time of improvised scenes that take you to great comedic heights.  \nCome armed with your funny bone and some unique suggestions for the performers who are guaranteed to leave you grinning from ear to ear before the night is done. NZ Entertainment Podcast
URL:https://www.mattarmstrongimprov.com/calendar/living-room-6/
LOCATION:Covert Theatre\, 51 MacKelvie Street\, Auckland\, New Zealand
CATEGORIES:Performing
END:VEVENT
BEGIN:VEVENT
DTSTART;TZID=Pacific/Auckland:20230504T203500
DTEND;TZID=Pacific/Auckland:20230504T203500
DTSTAMP:20260424T205308
CREATED:20240404T224956Z
LAST-MODIFIED:20240404T224956Z
UID:886-1683232500-1683232500@www.mattarmstrongimprov.com
SUMMARY:Improv Jukebox
DESCRIPTION:A workshop show where the Covert community try out new styles\, scenes\, games\, and who knows what else? Drop your coin and see what the jukebox plays
URL:https://www.mattarmstrongimprov.com/calendar/improv-jukebox-8/
LOCATION:Covert Theatre\, 51 MacKelvie Street\, Auckland\, New Zealand
CATEGORIES:Performing
END:VEVENT
BEGIN:VEVENT
DTSTART;TZID=Pacific/Auckland:20230408T203500
DTEND;TZID=Pacific/Auckland:20230408T203500
DTSTAMP:20260424T205308
CREATED:20240404T220949Z
LAST-MODIFIED:20240404T220949Z
UID:774-1680986100-1680986100@www.mattarmstrongimprov.com
SUMMARY:Improv Magic
DESCRIPTION:Improv Magic – NOT a magic show!\nThe show starts with an invocation and once the conjuring is complete\, the cast then bedazzle you with some improv magic. The entire show is a display of comedy that’s as clever as it is funny. It’s a night of mystery… a night of great heights… a night you won’t forget!
URL:https://www.mattarmstrongimprov.com/calendar/improv-magic-2/
LOCATION:Covert Theatre\, 51 MacKelvie Street\, Auckland\, New Zealand
CATEGORIES:Performing
END:VEVENT
BEGIN:VEVENT
DTSTART;TZID=Pacific/Auckland:20230406T203000
DTEND;TZID=Pacific/Auckland:20230406T203000
DTSTAMP:20260424T205308
CREATED:20240404T224956Z
LAST-MODIFIED:20240404T224956Z
UID:718-1680813000-1680813000@www.mattarmstrongimprov.com
SUMMARY:Improv Jukebox
DESCRIPTION:A workshop show where the Covert community try out new styles\, scenes\, games\, and who knows what else? Drop your coin and see what the jukebox plays
URL:https://www.mattarmstrongimprov.com/calendar/__trashed-9/
LOCATION:Covert Theatre\, 51 MacKelvie Street\, Auckland\, New Zealand
CATEGORIES:Performing
END:VEVENT
BEGIN:VEVENT
DTSTART;TZID=Pacific/Auckland:20230405T203500
DTEND;TZID=Pacific/Auckland:20230405T203500
DTSTAMP:20260424T205308
CREATED:20240404T215935Z
LAST-MODIFIED:20240404T215935Z
UID:608-1680726900-1680726900@www.mattarmstrongimprov.com
SUMMARY:Improv Jukebox
DESCRIPTION:A workshop show where the Covert community try out new styles\, scenes\, games\, and who knows what else? Drop your coin and see what the jukebox plays
URL:https://www.mattarmstrongimprov.com/calendar/improv-jukebox-2/
LOCATION:Covert Theatre\, 51 MacKelvie Street\, Auckland\, New Zealand
CATEGORIES:Performing
END:VEVENT
BEGIN:VEVENT
DTSTART;TZID=Pacific/Auckland:20230331T203000
DTEND;TZID=Pacific/Auckland:20230331T203000
DTSTAMP:20260424T205308
CREATED:20240404T224957Z
LAST-MODIFIED:20240404T224957Z
UID:717-1680294600-1680294600@www.mattarmstrongimprov.com
SUMMARY:The Remarkable Case of
DESCRIPTION:A murder mystery with a difference.\nYou’ll get to see the final Whodunnit scene at the start of the show and then the improv actors will take you back to the start so you can see how it all happened. And remember it’s 100% improvised! For lovers of Agatha Christie and all good murder mysteries.
URL:https://www.mattarmstrongimprov.com/calendar/__trashed-10/
LOCATION:Covert Theatre\, 51 MacKelvie Street\, Auckland\, New Zealand
CATEGORIES:Performing
END:VEVENT
BEGIN:VEVENT
DTSTART;TZID=Pacific/Auckland:20230317T203000
DTEND;TZID=Pacific/Auckland:20230317T203000
DTSTAMP:20260424T205308
CREATED:20240404T224957Z
LAST-MODIFIED:20240404T224957Z
UID:715-1679085000-1679085000@www.mattarmstrongimprov.com
SUMMARY:The Remarkable Case of
DESCRIPTION:A murder mystery with a difference.\nYou’ll get to see the final Whodunnit scene at the start of the show and then the improv actors will take you back to the start so you can see how it all happened. And remember it’s 100% improvised! For lovers of Agatha Christie and all good murder mysteries.
URL:https://www.mattarmstrongimprov.com/calendar/__trashed-12/
LOCATION:Covert Theatre\, 51 MacKelvie Street\, Auckland\, New Zealand
CATEGORIES:Performing
END:VEVENT
BEGIN:VEVENT
DTSTART;TZID=Pacific/Auckland:20230316T203000
DTEND;TZID=Pacific/Auckland:20230316T203000
DTSTAMP:20260424T205308
CREATED:20240404T224957Z
LAST-MODIFIED:20240404T224957Z
UID:714-1678998600-1678998600@www.mattarmstrongimprov.com
SUMMARY:Improv Jukebox
DESCRIPTION:A workshop show where the Covert community try out new styles\, scenes\, games\, and who knows what else? Drop your coin and see what the jukebox plays
URL:https://www.mattarmstrongimprov.com/calendar/__trashed-13/
LOCATION:Covert Theatre\, 51 MacKelvie Street\, Auckland\, New Zealand
CATEGORIES:Performing
END:VEVENT
BEGIN:VEVENT
DTSTART;TZID=Pacific/Auckland:20230310T203000
DTEND;TZID=Pacific/Auckland:20230310T203000
DTSTAMP:20260424T205308
CREATED:20240404T224957Z
LAST-MODIFIED:20240404T224957Z
UID:711-1678480200-1678480200@www.mattarmstrongimprov.com
SUMMARY:The Remarkable Case of
DESCRIPTION:A murder mystery with a difference.\nYou’ll get to see the final Whodunnit scene at the start of the show and then the improv actors will take you back to the start so you can see how it all happened. And remember it’s 100% improvised! For lovers of Agatha Christie and all good murder mysteries.
URL:https://www.mattarmstrongimprov.com/calendar/__trashed-16/
LOCATION:Covert Theatre\, 51 MacKelvie Street\, Auckland\, New Zealand
CATEGORIES:Performing
END:VEVENT
BEGIN:VEVENT
DTSTART;TZID=Pacific/Auckland:20230308T203500
DTEND;TZID=Pacific/Auckland:20230308T203500
DTSTAMP:20260424T205308
CREATED:20240404T220949Z
LAST-MODIFIED:20240404T220949Z
UID:773-1678307700-1678307700@www.mattarmstrongimprov.com
SUMMARY:Improv Jukebox
DESCRIPTION:A workshop show where the Covert community try out new styles\, scenes\, games\, and who knows what else? Drop your coin and see what the jukebox plays
URL:https://www.mattarmstrongimprov.com/calendar/improv-jukebox-4/
LOCATION:Covert Theatre\, 51 MacKelvie Street\, Auckland\, New Zealand
CATEGORIES:Performing
END:VEVENT
END:VCALENDAR