BEGIN:VCALENDAR
VERSION:2.0
PRODID:-//Matt Armstrong Improv - ECPv6.15.20//NONSGML v1.0//EN
CALSCALE:GREGORIAN
METHOD:PUBLISH
X-WR-CALNAME:Matt Armstrong Improv
X-ORIGINAL-URL:https://www.mattarmstrongimprov.com
X-WR-CALDESC:Events for Matt Armstrong Improv
REFRESH-INTERVAL;VALUE=DURATION:PT1H
X-Robots-Tag:noindex
X-PUBLISHED-TTL:PT1H
BEGIN:VTIMEZONE
TZID:Pacific/Auckland
BEGIN:STANDARD
TZOFFSETFROM:+1300
TZOFFSETTO:+1200
TZNAME:NZST
DTSTART:20230401T140000
END:STANDARD
BEGIN:DAYLIGHT
TZOFFSETFROM:+1200
TZOFFSETTO:+1300
TZNAME:NZDT
DTSTART:20230923T140000
END:DAYLIGHT
BEGIN:STANDARD
TZOFFSETFROM:+1300
TZOFFSETTO:+1200
TZNAME:NZST
DTSTART:20240406T140000
END:STANDARD
BEGIN:DAYLIGHT
TZOFFSETFROM:+1200
TZOFFSETTO:+1300
TZNAME:NZDT
DTSTART:20240928T140000
END:DAYLIGHT
BEGIN:STANDARD
TZOFFSETFROM:+1300
TZOFFSETTO:+1200
TZNAME:NZST
DTSTART:20250405T140000
END:STANDARD
BEGIN:DAYLIGHT
TZOFFSETFROM:+1200
TZOFFSETTO:+1300
TZNAME:NZDT
DTSTART:20250927T140000
END:DAYLIGHT
END:VTIMEZONE
BEGIN:VEVENT
DTSTART;TZID=Pacific/Auckland:20241005T181500
DTEND;TZID=Pacific/Auckland:20241005T181500
DTSTAMP:20260424T170855
CREATED:20250819T222952Z
LAST-MODIFIED:20250819T222952Z
UID:1179-1728152100-1728152100@www.mattarmstrongimprov.com
SUMMARY:The Remarkable Case of
DESCRIPTION:
URL:https://www.mattarmstrongimprov.com/calendar/the-remarkable-case-of-16/
LOCATION:Covert Theatre\, 51 MacKelvie Street\, Auckland\, New Zealand
CATEGORIES:Player
END:VEVENT
BEGIN:VEVENT
DTSTART;TZID=Pacific/Auckland:20240831T200000
DTEND;TZID=Pacific/Auckland:20240831T200000
DTSTAMP:20260424T170855
CREATED:20250819T222942Z
LAST-MODIFIED:20250819T222942Z
UID:1174-1725134400-1725134400@www.mattarmstrongimprov.com
SUMMARY:Ferris Wheel
DESCRIPTION:
URL:https://www.mattarmstrongimprov.com/calendar/ferris-wheel-10/
LOCATION:Covert Theatre\, 51 MacKelvie Street\, Auckland\, New Zealand
CATEGORIES:Player
END:VEVENT
BEGIN:VEVENT
DTSTART;TZID=Pacific/Auckland:20240615T181500
DTEND;TZID=Pacific/Auckland:20240615T181500
DTSTAMP:20260424T170855
CREATED:20250819T222915Z
LAST-MODIFIED:20250819T222915Z
UID:1169-1718475300-1718475300@www.mattarmstrongimprov.com
SUMMARY:The Remarkable Case of
DESCRIPTION:
URL:https://www.mattarmstrongimprov.com/calendar/the-remarkable-case-of-14/
LOCATION:Covert Theatre\, 51 MacKelvie Street\, Auckland\, New Zealand
CATEGORIES:Player
END:VEVENT
BEGIN:VEVENT
DTSTART;TZID=Pacific/Auckland:20240601T200000
DTEND;TZID=Pacific/Auckland:20240601T200000
DTSTAMP:20260424T170855
CREATED:20250819T222904Z
LAST-MODIFIED:20250819T222904Z
UID:1167-1717272000-1717272000@www.mattarmstrongimprov.com
SUMMARY:Ferris Wheel
DESCRIPTION:
URL:https://www.mattarmstrongimprov.com/calendar/ferris-wheel-9/
LOCATION:Covert Theatre\, 51 MacKelvie Street\, Auckland\, New Zealand
CATEGORIES:Player
END:VEVENT
BEGIN:VEVENT
DTSTART;TZID=Pacific/Auckland:20240504T200000
DTEND;TZID=Pacific/Auckland:20240504T200000
DTSTAMP:20260424T170855
CREATED:20250819T222858Z
LAST-MODIFIED:20250819T222858Z
UID:1163-1714852800-1714852800@www.mattarmstrongimprov.com
SUMMARY:It's All Fun and Games.
DESCRIPTION:
URL:https://www.mattarmstrongimprov.com/calendar/its-all-fun-and-games-5/
LOCATION:Covert Theatre\, 51 MacKelvie Street\, Auckland\, New Zealand
CATEGORIES:Player
END:VEVENT
BEGIN:VEVENT
DTSTART;TZID=Pacific/Auckland:20240502T200000
DTEND;TZID=Pacific/Auckland:20240502T200000
DTSTAMP:20260424T170855
CREATED:20250819T222854Z
LAST-MODIFIED:20250819T222854Z
UID:1162-1714680000-1714680000@www.mattarmstrongimprov.com
SUMMARY:Improv Jukebox
DESCRIPTION:
URL:https://www.mattarmstrongimprov.com/calendar/improv-jukebox-20/
LOCATION:Covert Theatre\, 51 MacKelvie Street\, Auckland\, New Zealand
CATEGORIES:Player
END:VEVENT
BEGIN:VEVENT
DTSTART;TZID=Pacific/Auckland:20240413T193000
DTEND;TZID=Pacific/Auckland:20240413T193000
DTSTAMP:20260424T170855
CREATED:20250819T222852Z
LAST-MODIFIED:20250819T222852Z
UID:1160-1713036600-1713036600@www.mattarmstrongimprov.com
SUMMARY:Remarkable Case of
DESCRIPTION:
URL:https://www.mattarmstrongimprov.com/calendar/remarkable-case-of-9/
LOCATION:Covert Theatre\, 51 MacKelvie Street\, Auckland\, New Zealand
CATEGORIES:Player
END:VEVENT
BEGIN:VEVENT
DTSTART;TZID=Pacific/Auckland:20240411T200000
DTEND;TZID=Pacific/Auckland:20240411T200000
DTSTAMP:20260424T170855
CREATED:20250819T222848Z
LAST-MODIFIED:20250819T222848Z
UID:1158-1712865600-1712865600@www.mattarmstrongimprov.com
SUMMARY:Improv Jukebox
DESCRIPTION:
URL:https://www.mattarmstrongimprov.com/calendar/improv-jukebox-19/
LOCATION:Covert Theatre\, 51 MacKelvie Street\, Auckland\, New Zealand
CATEGORIES:Player
END:VEVENT
BEGIN:VEVENT
DTSTART;TZID=Pacific/Auckland:20240404T200000
DTEND;TZID=Pacific/Auckland:20240404T200000
DTSTAMP:20260424T170855
CREATED:20250819T222844Z
LAST-MODIFIED:20250819T222844Z
UID:1157-1712260800-1712260800@www.mattarmstrongimprov.com
SUMMARY:Improv Jukebox
DESCRIPTION:
URL:https://www.mattarmstrongimprov.com/calendar/improv-jukebox-18/
LOCATION:Covert Theatre\, 51 MacKelvie Street\, Auckland\, New Zealand
CATEGORIES:Player
END:VEVENT
BEGIN:VEVENT
DTSTART;TZID=Pacific/Auckland:20240404T181500
DTEND;TZID=Pacific/Auckland:20240404T181500
DTSTAMP:20260424T170855
CREATED:20250819T222843Z
LAST-MODIFIED:20250819T222843Z
UID:1156-1712254500-1712254500@www.mattarmstrongimprov.com
SUMMARY:Laugh Lab
DESCRIPTION:
URL:https://www.mattarmstrongimprov.com/calendar/laugh-lab-2/
LOCATION:Covert Theatre\, 51 MacKelvie Street\, Auckland\, New Zealand
CATEGORIES:Player
END:VEVENT
END:VCALENDAR