BEGIN:VCALENDAR
VERSION:2.0
PRODID:-//Matt Armstrong Improv - ECPv6.15.20//NONSGML v1.0//EN
CALSCALE:GREGORIAN
METHOD:PUBLISH
X-WR-CALNAME:Matt Armstrong Improv
X-ORIGINAL-URL:https://www.mattarmstrongimprov.com
X-WR-CALDESC:Events for Matt Armstrong Improv
REFRESH-INTERVAL;VALUE=DURATION:PT1H
X-Robots-Tag:noindex
X-PUBLISHED-TTL:PT1H
BEGIN:VTIMEZONE
TZID:Pacific/Auckland
BEGIN:STANDARD
TZOFFSETFROM:+1300
TZOFFSETTO:+1200
TZNAME:NZST
DTSTART:20220402T140000
END:STANDARD
BEGIN:DAYLIGHT
TZOFFSETFROM:+1200
TZOFFSETTO:+1300
TZNAME:NZDT
DTSTART:20220924T140000
END:DAYLIGHT
BEGIN:STANDARD
TZOFFSETFROM:+1300
TZOFFSETTO:+1200
TZNAME:NZST
DTSTART:20230401T140000
END:STANDARD
BEGIN:DAYLIGHT
TZOFFSETFROM:+1200
TZOFFSETTO:+1300
TZNAME:NZDT
DTSTART:20230923T140000
END:DAYLIGHT
BEGIN:STANDARD
TZOFFSETFROM:+1300
TZOFFSETTO:+1200
TZNAME:NZST
DTSTART:20240406T140000
END:STANDARD
BEGIN:DAYLIGHT
TZOFFSETFROM:+1200
TZOFFSETTO:+1300
TZNAME:NZDT
DTSTART:20240928T140000
END:DAYLIGHT
BEGIN:STANDARD
TZOFFSETFROM:+1300
TZOFFSETTO:+1200
TZNAME:NZST
DTSTART:20250405T140000
END:STANDARD
BEGIN:DAYLIGHT
TZOFFSETFROM:+1200
TZOFFSETTO:+1300
TZNAME:NZDT
DTSTART:20250927T140000
END:DAYLIGHT
END:VTIMEZONE
BEGIN:VEVENT
DTSTART;TZID=Pacific/Auckland:20240528T180000
DTEND;TZID=Pacific/Auckland:20240528T200000
DTSTAMP:20260424T160645
CREATED:20240410T023719Z
LAST-MODIFIED:20240410T023719Z
UID:1099-1716919200-1716926400@www.mattarmstrongimprov.com
SUMMARY:Improv 301
DESCRIPTION:Introduction to improv for adults\nA 10-week program with 2 hours classes\, this an introduction to long form improvisation and the final stage in being eligible to join the Covert Theatre.
URL:https://www.mattarmstrongimprov.com/calendar/improv-301-6-2/
LOCATION:Covert Theatre\, 51 MacKelvie Street\, Auckland\, New Zealand
CATEGORIES:Teaching
END:VEVENT
BEGIN:VEVENT
DTSTART;TZID=Pacific/Auckland:20240423T180000
DTEND;TZID=Pacific/Auckland:20240423T200000
DTSTAMP:20260424T160645
CREATED:20240410T023624Z
LAST-MODIFIED:20240410T023624Z
UID:1097-1713895200-1713902400@www.mattarmstrongimprov.com
SUMMARY:Improv 301
DESCRIPTION:Introduction to improv for adults\nA 10-week program with 2 hours classes\, this an introduction to long form improvisation and the final stage in being eligible to join the Covert Theatre.
URL:https://www.mattarmstrongimprov.com/calendar/improv-301-6/
LOCATION:Covert Theatre\, 51 MacKelvie Street\, Auckland\, New Zealand
CATEGORIES:Teaching
END:VEVENT
BEGIN:VEVENT
DTSTART;VALUE=DATE:20240413
DTEND;VALUE=DATE:20240422
DTSTAMP:20260424T160645
CREATED:20240324T085040Z
LAST-MODIFIED:20240409T054922Z
UID:570-1712966400-1713743999@www.mattarmstrongimprov.com
SUMMARY:Auckland Improv Festival
DESCRIPTION:Attending workshops everyday!  Performing sometimes!  Directing too\, perhaps!
URL:https://www.mattarmstrongimprov.com/calendar/auckland-improv-festival/
LOCATION:Covert Theatre\, 51 MacKelvie Street\, Auckland\, New Zealand
CATEGORIES:Attending,Performing,Teaching
END:VEVENT
BEGIN:VEVENT
DTSTART;TZID=Pacific/Auckland:20240402T201500
DTEND;TZID=Pacific/Auckland:20240402T214500
DTSTAMP:20260424T160645
CREATED:20240403T221140Z
LAST-MODIFIED:20240404T225233Z
UID:572-1712088900-1712094300@www.mattarmstrongimprov.com
SUMMARY:Laugh Lab - drop in
DESCRIPTION:Laugh Lab – drop in\n90 minute session on the Laugh Lab duo show format
URL:https://www.mattarmstrongimprov.com/calendar/improv-301-2/
LOCATION:Covert Theatre\, 51 MacKelvie Street\, Auckland\, New Zealand
CATEGORIES:Teaching
END:VEVENT
BEGIN:VEVENT
DTSTART;TZID=Pacific/Auckland:20240402T180000
DTEND;TZID=Pacific/Auckland:20240402T200000
DTSTAMP:20260424T160645
CREATED:20240321T054124Z
LAST-MODIFIED:20240404T225233Z
UID:475-1712080800-1712088000@www.mattarmstrongimprov.com
SUMMARY:Improv 301
DESCRIPTION:Introduction to improv for adults\nA 10-week program with 2 hours classes\, this an introduction to long form improvisation and the final stage in being eligible to join the Covert Theatre.
URL:https://www.mattarmstrongimprov.com/calendar/improv-301/
LOCATION:Covert Theatre\, 51 MacKelvie Street\, Auckland\, New Zealand
CATEGORIES:Teaching
END:VEVENT
BEGIN:VEVENT
DTSTART;TZID=Pacific/Auckland:20240305T180000
DTEND;TZID=Pacific/Auckland:20240305T200000
DTSTAMP:20260424T160645
CREATED:20240409T051233Z
LAST-MODIFIED:20240409T051233Z
UID:1055-1709661600-1709668800@www.mattarmstrongimprov.com
SUMMARY:Improv 301
DESCRIPTION:Introduction to improv for adults\nA 10-week program with 2 hours classes\, this an introduction to long form improvisation and the final stage in being eligible to join the Covert Theatre.
URL:https://www.mattarmstrongimprov.com/calendar/improv-301-5/
LOCATION:Covert Theatre\, 51 MacKelvie Street\, Auckland\, New Zealand
CATEGORIES:Teaching
END:VEVENT
BEGIN:VEVENT
DTSTART;TZID=Pacific/Auckland:20240227T180000
DTEND;TZID=Pacific/Auckland:20240227T200000
DTSTAMP:20260424T160645
CREATED:20240409T051104Z
LAST-MODIFIED:20240409T051117Z
UID:1052-1709056800-1709064000@www.mattarmstrongimprov.com
SUMMARY:Improv 301
DESCRIPTION:Introduction to improv for adults\nA 10-week program with 2 hours classes\, this an introduction to long form improvisation and the final stage in being eligible to join the Covert Theatre.
URL:https://www.mattarmstrongimprov.com/calendar/improv-301-4-2-2-2-2/
LOCATION:Covert Theatre\, 51 MacKelvie Street\, Auckland\, New Zealand
CATEGORIES:Teaching
END:VEVENT
BEGIN:VEVENT
DTSTART;TZID=Pacific/Auckland:20240213T201500
DTEND;TZID=Pacific/Auckland:20240213T214500
DTSTAMP:20260424T160645
CREATED:20240409T051516Z
LAST-MODIFIED:20240409T051516Z
UID:1057-1707855300-1707860700@www.mattarmstrongimprov.com
SUMMARY:Laugh Lab - drop in
DESCRIPTION:Laugh Lab – drop in\n90 minute session on the Laugh Lab duo show format
URL:https://www.mattarmstrongimprov.com/calendar/laugh-lab/
LOCATION:Covert Theatre\, 51 MacKelvie Street\, Auckland\, New Zealand
CATEGORIES:Teaching
END:VEVENT
BEGIN:VEVENT
DTSTART;TZID=Pacific/Auckland:20240213T180000
DTEND;TZID=Pacific/Auckland:20240213T200000
DTSTAMP:20260424T160645
CREATED:20240409T051043Z
LAST-MODIFIED:20240409T051043Z
UID:1050-1707847200-1707854400@www.mattarmstrongimprov.com
SUMMARY:Improv 301
DESCRIPTION:Introduction to improv for adults\nA 10-week program with 2 hours classes\, this an introduction to long form improvisation and the final stage in being eligible to join the Covert Theatre.
URL:https://www.mattarmstrongimprov.com/calendar/improv-301-4-2-2-2/
LOCATION:Covert Theatre\, 51 MacKelvie Street\, Auckland\, New Zealand
CATEGORIES:Teaching
END:VEVENT
BEGIN:VEVENT
DTSTART;TZID=Pacific/Auckland:20231104T150000
DTEND;TZID=Pacific/Auckland:20231104T170000
DTSTAMP:20260424T160645
CREATED:20240409T050846Z
LAST-MODIFIED:20240409T050901Z
UID:1046-1699110000-1699117200@www.mattarmstrongimprov.com
SUMMARY:Improv 301
DESCRIPTION:Introduction to improv for adults\nA 10-week program with 2 hours classes\, this an introduction to long form improvisation and the final stage in being eligible to join the Covert Theatre.
URL:https://www.mattarmstrongimprov.com/calendar/improv-301-4-2-2/
LOCATION:Covert Theatre\, 51 MacKelvie Street\, Auckland\, New Zealand
CATEGORIES:Teaching
END:VEVENT
BEGIN:VEVENT
DTSTART;TZID=Pacific/Auckland:20231028T150000
DTEND;TZID=Pacific/Auckland:20231028T170000
DTSTAMP:20260424T160645
CREATED:20240409T050818Z
LAST-MODIFIED:20240409T050934Z
UID:1044-1698505200-1698512400@www.mattarmstrongimprov.com
SUMMARY:Improv 301
DESCRIPTION:Introduction to improv for adults\nA 10-week program with 2 hours classes\, this an introduction to long form improvisation and the final stage in being eligible to join the Covert Theatre.
URL:https://www.mattarmstrongimprov.com/calendar/improv-301-4-2/
LOCATION:Covert Theatre\, 51 MacKelvie Street\, Auckland\, New Zealand
CATEGORIES:Teaching
END:VEVENT
BEGIN:VEVENT
DTSTART;TZID=Pacific/Auckland:20231007T150000
DTEND;TZID=Pacific/Auckland:20231007T170000
DTSTAMP:20260424T160645
CREATED:20240409T050737Z
LAST-MODIFIED:20240409T050758Z
UID:1042-1696690800-1696698000@www.mattarmstrongimprov.com
SUMMARY:Improv 301
DESCRIPTION:Introduction to improv for adults\nA 10-week program with 2 hours classes\, this an introduction to long form improvisation and the final stage in being eligible to join the Covert Theatre.
URL:https://www.mattarmstrongimprov.com/calendar/improv-301-4/
LOCATION:Covert Theatre\, 51 MacKelvie Street\, Auckland\, New Zealand
CATEGORIES:Teaching
END:VEVENT
BEGIN:VEVENT
DTSTART;TZID=Pacific/Auckland:20231003T180000
DTEND;TZID=Pacific/Auckland:20231003T200000
DTSTAMP:20260424T160645
CREATED:20240409T052518Z
LAST-MODIFIED:20240409T052518Z
UID:1078-1696356000-1696363200@www.mattarmstrongimprov.com
SUMMARY:Now The Pudding
DESCRIPTION:A four week follow up course on using Premise in long form improv\, building on repeatable characters and character game
URL:https://www.mattarmstrongimprov.com/calendar/now-the-pudding-4/
CATEGORIES:Teaching
END:VEVENT
BEGIN:VEVENT
DTSTART;TZID=Pacific/Auckland:20230926T180000
DTEND;TZID=Pacific/Auckland:20230926T200000
DTSTAMP:20260424T160645
CREATED:20240409T052429Z
LAST-MODIFIED:20240409T052429Z
UID:1076-1695751200-1695758400@www.mattarmstrongimprov.com
SUMMARY:Now The Pudding
DESCRIPTION:A four week follow up course on using Premise in long form improv\, building on repeatable characters and character game
URL:https://www.mattarmstrongimprov.com/calendar/now-the-pudding-3/
CATEGORIES:Teaching
END:VEVENT
BEGIN:VEVENT
DTSTART;TZID=Pacific/Auckland:20230919T180000
DTEND;TZID=Pacific/Auckland:20230919T200000
DTSTAMP:20260424T160645
CREATED:20240409T052402Z
LAST-MODIFIED:20240409T052402Z
UID:1074-1695146400-1695153600@www.mattarmstrongimprov.com
SUMMARY:Now The Pudding
DESCRIPTION:A four week follow up course on using Premise in long form improv\, building on repeatable characters and character game
URL:https://www.mattarmstrongimprov.com/calendar/now-the-pudding-2/
CATEGORIES:Teaching
END:VEVENT
BEGIN:VEVENT
DTSTART;TZID=Pacific/Auckland:20230912T180000
DTEND;TZID=Pacific/Auckland:20230912T200000
DTSTAMP:20260424T160645
CREATED:20240409T052321Z
LAST-MODIFIED:20240409T052321Z
UID:1072-1694541600-1694548800@www.mattarmstrongimprov.com
SUMMARY:Now The Pudding
DESCRIPTION:A four week follow up course on using Premise in long form improv\, building on repeatable characters and character game
URL:https://www.mattarmstrongimprov.com/calendar/now-the-pudding/
CATEGORIES:Teaching
END:VEVENT
BEGIN:VEVENT
DTSTART;TZID=Pacific/Auckland:20230812T100000
DTEND;TZID=Pacific/Auckland:20230812T120000
DTSTAMP:20260424T160645
CREATED:20240409T050620Z
LAST-MODIFIED:20240409T050620Z
UID:1038-1691834400-1691841600@www.mattarmstrongimprov.com
SUMMARY:Improv 301
DESCRIPTION:Introduction to improv for adults\nA 10-week program with 2 hours classes\, this an introduction to long form improvisation and the final stage in being eligible to join the Covert Theatre.
URL:https://www.mattarmstrongimprov.com/calendar/improv-301-3/
LOCATION:Covert Theatre\, 51 MacKelvie Street\, Auckland\, New Zealand
CATEGORIES:Teaching
END:VEVENT
BEGIN:VEVENT
DTSTART;TZID=Pacific/Auckland:20230808T180000
DTEND;TZID=Pacific/Auckland:20230808T200000
DTSTAMP:20260424T160645
CREATED:20240409T052151Z
LAST-MODIFIED:20240409T052151Z
UID:1070-1691517600-1691524800@www.mattarmstrongimprov.com
SUMMARY:Meat First
DESCRIPTION:A four week introduction course on using Premise in long form improv
URL:https://www.mattarmstrongimprov.com/calendar/meat-first-2-2-2/
CATEGORIES:Teaching
END:VEVENT
BEGIN:VEVENT
DTSTART;TZID=Pacific/Auckland:20230805T100000
DTEND;TZID=Pacific/Auckland:20230805T120000
DTSTAMP:20260424T160645
CREATED:20240409T050656Z
LAST-MODIFIED:20240409T050656Z
UID:1040-1691229600-1691236800@www.mattarmstrongimprov.com
SUMMARY:Improv 301
DESCRIPTION:Introduction to improv for adults\nA 10-week program with 2 hours classes\, this an introduction to long form improvisation and the final stage in being eligible to join the Covert Theatre.
URL:https://www.mattarmstrongimprov.com/calendar/improv-301-3-2/
LOCATION:Covert Theatre\, 51 MacKelvie Street\, Auckland\, New Zealand
CATEGORIES:Teaching
END:VEVENT
BEGIN:VEVENT
DTSTART;TZID=Pacific/Auckland:20230801T180000
DTEND;TZID=Pacific/Auckland:20230801T200000
DTSTAMP:20260424T160645
CREATED:20240409T052122Z
LAST-MODIFIED:20240409T052122Z
UID:1068-1690912800-1690920000@www.mattarmstrongimprov.com
SUMMARY:Meat First
DESCRIPTION:A four week introduction course on using Premise in long form improv
URL:https://www.mattarmstrongimprov.com/calendar/meat-first-2-2/
CATEGORIES:Teaching
END:VEVENT
BEGIN:VEVENT
DTSTART;TZID=Pacific/Auckland:20230725T180000
DTEND;TZID=Pacific/Auckland:20230725T200000
DTSTAMP:20260424T160645
CREATED:20240409T052038Z
LAST-MODIFIED:20240409T052052Z
UID:1065-1690308000-1690315200@www.mattarmstrongimprov.com
SUMMARY:Meat First
DESCRIPTION:A four week introduction course on using Premise in long form improv
URL:https://www.mattarmstrongimprov.com/calendar/meat-first-2/
CATEGORIES:Teaching
END:VEVENT
BEGIN:VEVENT
DTSTART;TZID=Pacific/Auckland:20230718T180000
DTEND;TZID=Pacific/Auckland:20230718T200000
DTSTAMP:20260424T160645
CREATED:20240409T052005Z
LAST-MODIFIED:20240409T052020Z
UID:1063-1689703200-1689710400@www.mattarmstrongimprov.com
SUMMARY:Meat First
DESCRIPTION:A four week introduction course on using Premise in long form improv
URL:https://www.mattarmstrongimprov.com/calendar/meat-first/
CATEGORIES:Teaching
END:VEVENT
END:VCALENDAR