BEGIN:VCALENDAR
VERSION:2.0
PRODID:-//Matt Armstrong Improv - ECPv6.15.20//NONSGML v1.0//EN
CALSCALE:GREGORIAN
METHOD:PUBLISH
X-ORIGINAL-URL:https://www.mattarmstrongimprov.com
X-WR-CALDESC:Events for Matt Armstrong Improv
REFRESH-INTERVAL;VALUE=DURATION:PT1H
X-Robots-Tag:noindex
X-PUBLISHED-TTL:PT1H
BEGIN:VTIMEZONE
TZID:Pacific/Auckland
BEGIN:STANDARD
TZOFFSETFROM:+1300
TZOFFSETTO:+1200
TZNAME:NZST
DTSTART:20220402T140000
END:STANDARD
BEGIN:DAYLIGHT
TZOFFSETFROM:+1200
TZOFFSETTO:+1300
TZNAME:NZDT
DTSTART:20220924T140000
END:DAYLIGHT
BEGIN:STANDARD
TZOFFSETFROM:+1300
TZOFFSETTO:+1200
TZNAME:NZST
DTSTART:20230401T140000
END:STANDARD
BEGIN:DAYLIGHT
TZOFFSETFROM:+1200
TZOFFSETTO:+1300
TZNAME:NZDT
DTSTART:20230923T140000
END:DAYLIGHT
BEGIN:STANDARD
TZOFFSETFROM:+1300
TZOFFSETTO:+1200
TZNAME:NZST
DTSTART:20240406T140000
END:STANDARD
BEGIN:DAYLIGHT
TZOFFSETFROM:+1200
TZOFFSETTO:+1300
TZNAME:NZDT
DTSTART:20240928T140000
END:DAYLIGHT
BEGIN:STANDARD
TZOFFSETFROM:+1300
TZOFFSETTO:+1200
TZNAME:NZST
DTSTART:20250405T140000
END:STANDARD
BEGIN:DAYLIGHT
TZOFFSETFROM:+1200
TZOFFSETTO:+1300
TZNAME:NZDT
DTSTART:20250927T140000
END:DAYLIGHT
END:VTIMEZONE
BEGIN:VEVENT
DTSTART;TZID=Pacific/Auckland:20240126T181500
DTEND;TZID=Pacific/Auckland:20240126T181500
DTSTAMP:20260425T022334
CREATED:20240404T230642Z
LAST-MODIFIED:20240404T230642Z
UID:912-1706292900-1706292900@www.mattarmstrongimprov.com
SUMMARY:The Remarkable Case of
DESCRIPTION:A murder mystery with a difference.\nYou’ll get to see the final Whodunnit scene at the start of the show and then the improv actors will take you back to the start so you can see how it all happened. And remember it’s 100% improvised! For lovers of Agatha Christie and all good murder mysteries.
URL:https://www.mattarmstrongimprov.com/calendar/the-remarkable-case-of-10/
LOCATION:Covert Theatre\, 51 MacKelvie Street\, Auckland\, New Zealand
CATEGORIES:Performing
END:VEVENT
BEGIN:VEVENT
DTSTART;TZID=Pacific/Auckland:20240121T171500
DTEND;TZID=Pacific/Auckland:20240121T171500
DTSTAMP:20260425T022334
CREATED:20240404T230642Z
LAST-MODIFIED:20240404T230642Z
UID:911-1705857300-1705857300@www.mattarmstrongimprov.com
SUMMARY:Jester
DESCRIPTION:Jester – fresh comedy every time\nThis is a fast and furious improv comedy show in the style of TV’s Whose Line Is It Anyway? Improvisers are called up to perform scenes\, sagas and songs all based on the audience’s suggestions.  \nSheer madcap wit and an energetic slapdash hour of fun. Theatreview \n\nCome armed with your funny bone and some unique suggestions for the performers who are guaranteed to leave you grinning from ear to ear before the night is done. NZ Entertainment Podcast>
URL:https://www.mattarmstrongimprov.com/calendar/jester-10/
LOCATION:Covert Theatre\, 51 MacKelvie Street\, Auckland\, New Zealand
CATEGORIES:Directing
END:VEVENT
BEGIN:VEVENT
DTSTART;TZID=Pacific/Auckland:20240120T181500
DTEND;TZID=Pacific/Auckland:20240120T181500
DTSTAMP:20260425T022334
CREATED:20240404T230653Z
LAST-MODIFIED:20240404T230653Z
UID:910-1705774500-1705774500@www.mattarmstrongimprov.com
SUMMARY:Improv Magic
DESCRIPTION:Improv Magic – NOT a magic show!\nThe show starts with an invocation and once the conjuring is complete\, the cast then bedazzle you with some improv magic. The entire show is a display of comedy that’s as clever as it is funny. It’s a night of mystery… a night of great heights… a night you won’t forget!
URL:https://www.mattarmstrongimprov.com/calendar/improv-magic-4/
LOCATION:Covert Theatre\, 51 MacKelvie Street\, Auckland\, New Zealand
CATEGORIES:Performing
END:VEVENT
BEGIN:VEVENT
DTSTART;TZID=Pacific/Auckland:20240119T181500
DTEND;TZID=Pacific/Auckland:20240119T181500
DTSTAMP:20260425T022334
CREATED:20240404T230654Z
LAST-MODIFIED:20240404T230654Z
UID:909-1705688100-1705688100@www.mattarmstrongimprov.com
SUMMARY:Improv Magic
DESCRIPTION:Improv Magic – NOT a magic show!\nThe show starts with an invocation and once the conjuring is complete\, the cast then bedazzle you with some improv magic. The entire show is a display of comedy that’s as clever as it is funny. It’s a night of mystery… a night of great heights… a night you won’t forget!
URL:https://www.mattarmstrongimprov.com/calendar/improv-magic-5/
LOCATION:Covert Theatre\, 51 MacKelvie Street\, Auckland\, New Zealand
CATEGORIES:Performing
END:VEVENT
BEGIN:VEVENT
DTSTART;TZID=Pacific/Auckland:20240114T171500
DTEND;TZID=Pacific/Auckland:20240114T171500
DTSTAMP:20260425T022334
CREATED:20240404T230654Z
LAST-MODIFIED:20240404T230654Z
UID:908-1705252500-1705252500@www.mattarmstrongimprov.com
SUMMARY:Jester
DESCRIPTION:Jester – fresh comedy every time\nThis is a fast and furious improv comedy show in the style of TV’s Whose Line Is It Anyway? Improvisers are called up to perform scenes\, sagas and songs all based on the audience’s suggestions.  \nSheer madcap wit and an energetic slapdash hour of fun. Theatreview \n\nCome armed with your funny bone and some unique suggestions for the performers who are guaranteed to leave you grinning from ear to ear before the night is done. NZ Entertainment Podcast>
URL:https://www.mattarmstrongimprov.com/calendar/jester-11/
LOCATION:Covert Theatre\, 51 MacKelvie Street\, Auckland\, New Zealand
CATEGORIES:Performing
END:VEVENT
BEGIN:VEVENT
DTSTART;TZID=Pacific/Auckland:20240113T181500
DTEND;TZID=Pacific/Auckland:20240113T181500
DTSTAMP:20260425T022334
CREATED:20240404T230654Z
LAST-MODIFIED:20240404T230654Z
UID:907-1705169700-1705169700@www.mattarmstrongimprov.com
SUMMARY:It's All Fun and Games
DESCRIPTION:
URL:https://www.mattarmstrongimprov.com/calendar/its-all-fun-and-games-2/
LOCATION:Covert Theatre\, 51 MacKelvie Street\, Auckland\, New Zealand
CATEGORIES:Performing
END:VEVENT
BEGIN:VEVENT
DTSTART;TZID=Pacific/Auckland:20240112T181500
DTEND;TZID=Pacific/Auckland:20240112T181500
DTSTAMP:20260425T022334
CREATED:20240404T230654Z
LAST-MODIFIED:20240404T230654Z
UID:906-1705083300-1705083300@www.mattarmstrongimprov.com
SUMMARY:It's All Fun and Games
DESCRIPTION:
URL:https://www.mattarmstrongimprov.com/calendar/its-all-fun-and-games-3/
LOCATION:Covert Theatre\, 51 MacKelvie Street\, Auckland\, New Zealand
CATEGORIES:Performing
END:VEVENT
BEGIN:VEVENT
DTSTART;TZID=Pacific/Auckland:20231216T200500
DTEND;TZID=Pacific/Auckland:20231216T200500
DTSTAMP:20260425T022334
CREATED:20240404T225234Z
LAST-MODIFIED:20240404T225234Z
UID:905-1702757100-1702757100@www.mattarmstrongimprov.com
SUMMARY:Ferris Wheel
DESCRIPTION:Ferris Wheel – revolutionary comedy \nA character-driven improvised comedy show set at the top of a Ferris Wheel. With separate storylines that revolve every 2-minutes it’s kind of like Pulp Fiction but with a lot less blood.  \nAn ingeniously versatile premise… essentially delightful. Theatreview
URL:https://www.mattarmstrongimprov.com/calendar/ferris-wheel-3/
LOCATION:Covert Theatre\, 51 MacKelvie Street\, Auckland\, New Zealand
CATEGORIES:Performing
END:VEVENT
BEGIN:VEVENT
DTSTART;TZID=Pacific/Auckland:20231208T203500
DTEND;TZID=Pacific/Auckland:20231208T203500
DTSTAMP:20260425T022334
CREATED:20240404T220949Z
LAST-MODIFIED:20240404T225234Z
UID:779-1702067700-1702067700@www.mattarmstrongimprov.com
SUMMARY:Same Same But Different
DESCRIPTION:
URL:https://www.mattarmstrongimprov.com/calendar/same-same-but-different/
LOCATION:Covert Theatre\, 51 MacKelvie Street\, Auckland\, New Zealand
CATEGORIES:Performing
END:VEVENT
BEGIN:VEVENT
DTSTART;TZID=Pacific/Auckland:20231208T200500
DTEND;TZID=Pacific/Auckland:20231208T200500
DTSTAMP:20260425T022334
CREATED:20240404T225234Z
LAST-MODIFIED:20240404T225234Z
UID:903-1702065900-1702065900@www.mattarmstrongimprov.com
SUMMARY:It's All Fun and Games.
DESCRIPTION:
URL:https://www.mattarmstrongimprov.com/calendar/its-all-fun-and-games-4/
LOCATION:Covert Theatre\, 51 MacKelvie Street\, Auckland\, New Zealand
CATEGORIES:Performing
END:VEVENT
BEGIN:VEVENT
DTSTART;TZID=Pacific/Auckland:20231207T181500
DTEND;TZID=Pacific/Auckland:20231207T181500
DTSTAMP:20260425T022334
CREATED:20240404T225234Z
LAST-MODIFIED:20240404T225234Z
UID:902-1701972900-1701972900@www.mattarmstrongimprov.com
SUMMARY:Jester
DESCRIPTION:Jester – fresh comedy every time\nThis is a fast and furious improv comedy show in the style of TV’s Whose Line Is It Anyway? Improvisers are called up to perform scenes\, sagas and songs all based on the audience’s suggestions.  \nSheer madcap wit and an energetic slapdash hour of fun. Theatreview \n\nCome armed with your funny bone and some unique suggestions for the performers who are guaranteed to leave you grinning from ear to ear before the night is done. NZ Entertainment Podcast>
URL:https://www.mattarmstrongimprov.com/calendar/jester-12/
LOCATION:Covert Theatre\, 51 MacKelvie Street\, Auckland\, New Zealand
CATEGORIES:Directing
END:VEVENT
BEGIN:VEVENT
DTSTART;TZID=Pacific/Auckland:20231202T181500
DTEND;TZID=Pacific/Auckland:20231202T181500
DTSTAMP:20260425T022334
CREATED:20240404T225235Z
LAST-MODIFIED:20240404T225235Z
UID:901-1701540900-1701540900@www.mattarmstrongimprov.com
SUMMARY:Living Room
DESCRIPTION:The Living Room\nThe show starts after a dinner party with friends who have adjourned to the living room. A topic is discussed and the instigation for rollicking good time of improvised scenes that take you to great comedic heights.  \nCome armed with your funny bone and some unique suggestions for the performers who are guaranteed to leave you grinning from ear to ear before the night is done. NZ Entertainment Podcast
URL:https://www.mattarmstrongimprov.com/calendar/living-room-9/
LOCATION:Covert Theatre\, 51 MacKelvie Street\, Auckland\, New Zealand
CATEGORIES:Performing
END:VEVENT
BEGIN:VEVENT
DTSTART;TZID=Pacific/Auckland:20231201T181500
DTEND;TZID=Pacific/Auckland:20231201T181500
DTSTAMP:20260425T022334
CREATED:20240404T225122Z
LAST-MODIFIED:20240404T225255Z
UID:900-1701454500-1701454500@www.mattarmstrongimprov.com
SUMMARY:Living Room
DESCRIPTION:The Living Room\nThe show starts after a dinner party with friends who have adjourned to the living room. A topic is discussed and the instigation for rollicking good time of improvised scenes that take you to great comedic heights.  \nCome armed with your funny bone and some unique suggestions for the performers who are guaranteed to leave you grinning from ear to ear before the night is done. NZ Entertainment Podcast
URL:https://www.mattarmstrongimprov.com/calendar/living-room-10/
LOCATION:Covert Theatre\, 51 MacKelvie Street\, Auckland\, New Zealand
CATEGORIES:Performing
END:VEVENT
BEGIN:VEVENT
DTSTART;TZID=Pacific/Auckland:20231125T200500
DTEND;TZID=Pacific/Auckland:20231125T200500
DTSTAMP:20260425T022334
CREATED:20240404T224507Z
LAST-MODIFIED:20240404T224507Z
UID:845-1700942700-1700942700@www.mattarmstrongimprov.com
SUMMARY:The Remarkable Case of
DESCRIPTION:A murder mystery with a difference.\nYou’ll get to see the final Whodunnit scene at the start of the show and then the improv actors will take you back to the start so you can see how it all happened. And remember it’s 100% improvised! For lovers of Agatha Christie and all good murder mysteries.
URL:https://www.mattarmstrongimprov.com/calendar/the-remarkable-case-of-3/
LOCATION:Covert Theatre\, 51 MacKelvie Street\, Auckland\, New Zealand
CATEGORIES:Performing
END:VEVENT
BEGIN:VEVENT
DTSTART;TZID=Pacific/Auckland:20231125T181500
DTEND;TZID=Pacific/Auckland:20231125T181500
DTSTAMP:20260425T022334
CREATED:20240404T224507Z
LAST-MODIFIED:20240404T224507Z
UID:844-1700936100-1700936100@www.mattarmstrongimprov.com
SUMMARY:Same Same But Different
DESCRIPTION:
URL:https://www.mattarmstrongimprov.com/calendar/same-same-but-different-3/
LOCATION:Covert Theatre\, 51 MacKelvie Street\, Auckland\, New Zealand
CATEGORIES:Performing
END:VEVENT
BEGIN:VEVENT
DTSTART;TZID=Pacific/Auckland:20231124T200500
DTEND;TZID=Pacific/Auckland:20231124T200500
DTSTAMP:20260425T022334
CREATED:20240404T224508Z
LAST-MODIFIED:20240404T224508Z
UID:843-1700856300-1700856300@www.mattarmstrongimprov.com
SUMMARY:The Remarkable Case of
DESCRIPTION:A murder mystery with a difference.\nYou’ll get to see the final Whodunnit scene at the start of the show and then the improv actors will take you back to the start so you can see how it all happened. And remember it’s 100% improvised! For lovers of Agatha Christie and all good murder mysteries.
URL:https://www.mattarmstrongimprov.com/calendar/the-remarkable-case-of-4/
LOCATION:Covert Theatre\, 51 MacKelvie Street\, Auckland\, New Zealand
CATEGORIES:Performing
END:VEVENT
BEGIN:VEVENT
DTSTART;TZID=Pacific/Auckland:20231124T200000
DTEND;TZID=Pacific/Auckland:20231124T210000
DTSTAMP:20260425T022334
CREATED:20240404T223538Z
LAST-MODIFIED:20240404T223538Z
UID:818-1700856000-1700859600@www.mattarmstrongimprov.com
SUMMARY:The Remarkable Case of
DESCRIPTION:A murder mystery with a difference.\nYou’ll get to see the final Whodunnit scene at the start of the show and then the improv actors will take you back to the start so you can see how it all happened. And remember it’s 100% improvised! For lovers of Agatha Christie and all good murder mysteries.
URL:https://www.mattarmstrongimprov.com/calendar/the-remarkable-case-of-2/
LOCATION:Covert Theatre\, 51 MacKelvie Street\, Auckland\, New Zealand
CATEGORIES:Performing
END:VEVENT
BEGIN:VEVENT
DTSTART;TZID=Pacific/Auckland:20231124T181500
DTEND;TZID=Pacific/Auckland:20231124T181500
DTSTAMP:20260425T022334
CREATED:20240404T224508Z
LAST-MODIFIED:20240404T224508Z
UID:842-1700849700-1700849700@www.mattarmstrongimprov.com
SUMMARY:Same Same But Different
DESCRIPTION:
URL:https://www.mattarmstrongimprov.com/calendar/same-same-but-different-4/
LOCATION:Covert Theatre\, 51 MacKelvie Street\, Auckland\, New Zealand
CATEGORIES:Performing
END:VEVENT
BEGIN:VEVENT
DTSTART;TZID=Pacific/Auckland:20231118T200500
DTEND;TZID=Pacific/Auckland:20231118T200500
DTSTAMP:20260425T022334
CREATED:20240404T224508Z
LAST-MODIFIED:20240404T224508Z
UID:841-1700337900-1700337900@www.mattarmstrongimprov.com
SUMMARY:Perfect Match
DESCRIPTION:Perfect Match – the speed dating show with a conscience \nEver wondered what was going on in people’s heads while speed dating? Now you can get that insight with the dating show with a conscience. Laugh at the human condition. It’s either that or cry!
URL:https://www.mattarmstrongimprov.com/calendar/perfect-match-3/
LOCATION:Covert Theatre\, 51 MacKelvie Street\, Auckland\, New Zealand
CATEGORIES:Performing
END:VEVENT
BEGIN:VEVENT
DTSTART;TZID=Pacific/Auckland:20231118T200000
DTEND;TZID=Pacific/Auckland:20231118T210000
DTSTAMP:20260425T022334
CREATED:20240404T223441Z
LAST-MODIFIED:20240404T223441Z
UID:816-1700337600-1700341200@www.mattarmstrongimprov.com
SUMMARY:Perfect Match
DESCRIPTION:Perfect Match – the speed dating show with a conscience \nEver wondered what was going on in people’s heads while speed dating? Now you can get that insight with the dating show with a conscience. Laugh at the human condition. It’s either that or cry!
URL:https://www.mattarmstrongimprov.com/calendar/perfect-match-2/
LOCATION:Covert Theatre\, 51 MacKelvie Street\, Auckland\, New Zealand
CATEGORIES:Performing
END:VEVENT
BEGIN:VEVENT
DTSTART;TZID=Pacific/Auckland:20231110T181500
DTEND;TZID=Pacific/Auckland:20231110T181500
DTSTAMP:20260425T022334
CREATED:20240404T224508Z
LAST-MODIFIED:20240404T224508Z
UID:840-1699640100-1699640100@www.mattarmstrongimprov.com
SUMMARY:It's All Fun and Games.
DESCRIPTION:
URL:https://www.mattarmstrongimprov.com/calendar/its-all-fun-and-games/
LOCATION:Covert Theatre\, 51 MacKelvie Street\, Auckland\, New Zealand
CATEGORIES:Performing
END:VEVENT
BEGIN:VEVENT
DTSTART;TZID=Pacific/Auckland:20231108T203500
DTEND;TZID=Pacific/Auckland:20231108T203500
DTSTAMP:20260425T022334
CREATED:20240404T220949Z
LAST-MODIFIED:20240404T220949Z
UID:778-1699475700-1699475700@www.mattarmstrongimprov.com
SUMMARY:Same Same But Different
DESCRIPTION:
URL:https://www.mattarmstrongimprov.com/calendar/same-same-but-different-2/
LOCATION:Covert Theatre\, 51 MacKelvie Street\, Auckland\, New Zealand
CATEGORIES:Performing
END:VEVENT
BEGIN:VEVENT
DTSTART;TZID=Pacific/Auckland:20231106T171500
DTEND;TZID=Pacific/Auckland:20231106T171500
DTSTAMP:20260425T022334
CREATED:20240404T215934Z
LAST-MODIFIED:20240404T215934Z
UID:619-1699290900-1699290900@www.mattarmstrongimprov.com
SUMMARY:Jester
DESCRIPTION:Jester – fresh comedy every time\nThis is a fast and furious improv comedy show in the style of TV’s Whose Line Is It Anyway? Improvisers are called up to perform scenes\, sagas and songs all based on the audience’s suggestions.  \nSheer madcap wit and an energetic slapdash hour of fun. Theatreview \n\nCome armed with your funny bone and some unique suggestions for the performers who are guaranteed to leave you grinning from ear to ear before the night is done. NZ Entertainment Podcast>
URL:https://www.mattarmstrongimprov.com/calendar/jester-2/
LOCATION:Covert Theatre\, 51 MacKelvie Street\, Auckland\, New Zealand
CATEGORIES:Directing
END:VEVENT
BEGIN:VEVENT
DTSTART;TZID=Pacific/Auckland:20231105T171500
DTEND;TZID=Pacific/Auckland:20231105T171500
DTSTAMP:20260425T022334
CREATED:20240404T224508Z
LAST-MODIFIED:20240404T224508Z
UID:839-1699204500-1699204500@www.mattarmstrongimprov.com
SUMMARY:Rookie Improv Night
DESCRIPTION:
URL:https://www.mattarmstrongimprov.com/calendar/rookie-improv-night/
LOCATION:Covert Theatre\, 51 MacKelvie Street\, Auckland\, New Zealand
CATEGORIES:Directing
END:VEVENT
BEGIN:VEVENT
DTSTART;TZID=Pacific/Auckland:20231104T150000
DTEND;TZID=Pacific/Auckland:20231104T170000
DTSTAMP:20260425T022334
CREATED:20240409T050846Z
LAST-MODIFIED:20240409T050901Z
UID:1046-1699110000-1699117200@www.mattarmstrongimprov.com
SUMMARY:Improv 301
DESCRIPTION:Introduction to improv for adults\nA 10-week program with 2 hours classes\, this an introduction to long form improvisation and the final stage in being eligible to join the Covert Theatre.
URL:https://www.mattarmstrongimprov.com/calendar/improv-301-4-2-2/
LOCATION:Covert Theatre\, 51 MacKelvie Street\, Auckland\, New Zealand
CATEGORIES:Teaching
END:VEVENT
BEGIN:VEVENT
DTSTART;TZID=Pacific/Auckland:20231103T203000
DTEND;TZID=Pacific/Auckland:20231103T203000
DTSTAMP:20260425T022334
CREATED:20240404T215934Z
LAST-MODIFIED:20240404T215934Z
UID:578-1699043400-1699043400@www.mattarmstrongimprov.com
SUMMARY:The Remarkable Case of
DESCRIPTION:A murder mystery with a difference.\nYou’ll get to see the final Whodunnit scene at the start of the show and then the improv actors will take you back to the start so you can see how it all happened. And remember it’s 100% improvised! For lovers of Agatha Christie and all good murder mysteries.
URL:https://www.mattarmstrongimprov.com/calendar/__trashed/
LOCATION:Covert Theatre\, 51 MacKelvie Street\, Auckland\, New Zealand
CATEGORIES:Directing
END:VEVENT
BEGIN:VEVENT
DTSTART;TZID=Pacific/Auckland:20231103T181500
DTEND;TZID=Pacific/Auckland:20231103T181500
DTSTAMP:20260425T022334
CREATED:20240404T224508Z
LAST-MODIFIED:20240404T224508Z
UID:838-1699035300-1699035300@www.mattarmstrongimprov.com
SUMMARY:Living Room
DESCRIPTION:The Living Room\nThe show starts after a dinner party with friends who have adjourned to the living room. A topic is discussed and the instigation for rollicking good time of improvised scenes that take you to great comedic heights.  \nCome armed with your funny bone and some unique suggestions for the performers who are guaranteed to leave you grinning from ear to ear before the night is done. NZ Entertainment Podcast
URL:https://www.mattarmstrongimprov.com/calendar/living-room-3/
LOCATION:Covert Theatre\, 51 MacKelvie Street\, Auckland\, New Zealand
CATEGORIES:Performing
END:VEVENT
BEGIN:VEVENT
DTSTART;TZID=Pacific/Auckland:20231102T181500
DTEND;TZID=Pacific/Auckland:20231102T181500
DTSTAMP:20260425T022334
CREATED:20240404T224508Z
LAST-MODIFIED:20240404T224508Z
UID:837-1698948900-1698948900@www.mattarmstrongimprov.com
SUMMARY:Jester
DESCRIPTION:Jester – fresh comedy every time\nThis is a fast and furious improv comedy show in the style of TV’s Whose Line Is It Anyway? Improvisers are called up to perform scenes\, sagas and songs all based on the audience’s suggestions.  \nSheer madcap wit and an energetic slapdash hour of fun. Theatreview \n\nCome armed with your funny bone and some unique suggestions for the performers who are guaranteed to leave you grinning from ear to ear before the night is done. NZ Entertainment Podcast>
URL:https://www.mattarmstrongimprov.com/calendar/jester-3/
LOCATION:Covert Theatre\, 51 MacKelvie Street\, Auckland\, New Zealand
CATEGORIES:Performing
END:VEVENT
BEGIN:VEVENT
DTSTART;TZID=Pacific/Auckland:20231028T150000
DTEND;TZID=Pacific/Auckland:20231028T170000
DTSTAMP:20260425T022334
CREATED:20240409T050818Z
LAST-MODIFIED:20240409T050934Z
UID:1044-1698505200-1698512400@www.mattarmstrongimprov.com
SUMMARY:Improv 301
DESCRIPTION:Introduction to improv for adults\nA 10-week program with 2 hours classes\, this an introduction to long form improvisation and the final stage in being eligible to join the Covert Theatre.
URL:https://www.mattarmstrongimprov.com/calendar/improv-301-4-2/
LOCATION:Covert Theatre\, 51 MacKelvie Street\, Auckland\, New Zealand
CATEGORIES:Teaching
END:VEVENT
BEGIN:VEVENT
DTSTART;TZID=Pacific/Auckland:20231026T181500
DTEND;TZID=Pacific/Auckland:20231026T181500
DTSTAMP:20260425T022334
CREATED:20240404T224508Z
LAST-MODIFIED:20240404T224508Z
UID:836-1698344100-1698344100@www.mattarmstrongimprov.com
SUMMARY:Jester
DESCRIPTION:Jester – fresh comedy every time\nThis is a fast and furious improv comedy show in the style of TV’s Whose Line Is It Anyway? Improvisers are called up to perform scenes\, sagas and songs all based on the audience’s suggestions.  \nSheer madcap wit and an energetic slapdash hour of fun. Theatreview \n\nCome armed with your funny bone and some unique suggestions for the performers who are guaranteed to leave you grinning from ear to ear before the night is done. NZ Entertainment Podcast>
URL:https://www.mattarmstrongimprov.com/calendar/jester-4/
LOCATION:Covert Theatre\, 51 MacKelvie Street\, Auckland\, New Zealand
CATEGORIES:Performing
END:VEVENT
END:VCALENDAR