BEGIN:VCALENDAR
VERSION:2.0
PRODID:-//Matt Armstrong Improv - ECPv6.15.20//NONSGML v1.0//EN
CALSCALE:GREGORIAN
METHOD:PUBLISH
X-ORIGINAL-URL:https://www.mattarmstrongimprov.com
X-WR-CALDESC:Events for Matt Armstrong Improv
REFRESH-INTERVAL;VALUE=DURATION:PT1H
X-Robots-Tag:noindex
X-PUBLISHED-TTL:PT1H
BEGIN:VTIMEZONE
TZID:Pacific/Auckland
BEGIN:STANDARD
TZOFFSETFROM:+1300
TZOFFSETTO:+1200
TZNAME:NZST
DTSTART:20220402T140000
END:STANDARD
BEGIN:DAYLIGHT
TZOFFSETFROM:+1200
TZOFFSETTO:+1300
TZNAME:NZDT
DTSTART:20220924T140000
END:DAYLIGHT
BEGIN:STANDARD
TZOFFSETFROM:+1300
TZOFFSETTO:+1200
TZNAME:NZST
DTSTART:20230401T140000
END:STANDARD
BEGIN:DAYLIGHT
TZOFFSETFROM:+1200
TZOFFSETTO:+1300
TZNAME:NZDT
DTSTART:20230923T140000
END:DAYLIGHT
BEGIN:STANDARD
TZOFFSETFROM:+1300
TZOFFSETTO:+1200
TZNAME:NZST
DTSTART:20240406T140000
END:STANDARD
BEGIN:DAYLIGHT
TZOFFSETFROM:+1200
TZOFFSETTO:+1300
TZNAME:NZDT
DTSTART:20240928T140000
END:DAYLIGHT
END:VTIMEZONE
BEGIN:VEVENT
DTSTART;TZID=Pacific/Auckland:20230914T181500
DTEND;TZID=Pacific/Auckland:20230914T181500
DTSTAMP:20260425T085421
CREATED:20240404T224618Z
LAST-MODIFIED:20240404T224618Z
UID:868-1694715300-1694715300@www.mattarmstrongimprov.com
SUMMARY:Jester
DESCRIPTION:Jester – fresh comedy every time\nThis is a fast and furious improv comedy show in the style of TV’s Whose Line Is It Anyway? Improvisers are called up to perform scenes\, sagas and songs all based on the audience’s suggestions.  \nSheer madcap wit and an energetic slapdash hour of fun. Theatreview \n\nCome armed with your funny bone and some unique suggestions for the performers who are guaranteed to leave you grinning from ear to ear before the night is done. NZ Entertainment Podcast>
URL:https://www.mattarmstrongimprov.com/calendar/jester-7/
LOCATION:Covert Theatre\, 51 MacKelvie Street\, Auckland\, New Zealand
CATEGORIES:Directing
END:VEVENT
BEGIN:VEVENT
DTSTART;TZID=Pacific/Auckland:20230912T180000
DTEND;TZID=Pacific/Auckland:20230912T200000
DTSTAMP:20260425T085421
CREATED:20240409T052321Z
LAST-MODIFIED:20240409T052321Z
UID:1072-1694541600-1694548800@www.mattarmstrongimprov.com
SUMMARY:Now The Pudding
DESCRIPTION:A four week follow up course on using Premise in long form improv\, building on repeatable characters and character game
URL:https://www.mattarmstrongimprov.com/calendar/now-the-pudding/
CATEGORIES:Teaching
END:VEVENT
BEGIN:VEVENT
DTSTART;TZID=Pacific/Auckland:20230908T200500
DTEND;TZID=Pacific/Auckland:20230908T200500
DTSTAMP:20260425T085421
CREATED:20240404T224618Z
LAST-MODIFIED:20240404T224618Z
UID:867-1694203500-1694203500@www.mattarmstrongimprov.com
SUMMARY:Perfect Match
DESCRIPTION:Perfect Match – the speed dating show with a conscience \nEver wondered what was going on in people’s heads while speed dating? Now you can get that insight with the dating show with a conscience. Laugh at the human condition. It’s either that or cry!
URL:https://www.mattarmstrongimprov.com/calendar/perfect-match-4/
LOCATION:Covert Theatre\, 51 MacKelvie Street\, Auckland\, New Zealand
CATEGORIES:Performing
END:VEVENT
BEGIN:VEVENT
DTSTART;TZID=Pacific/Auckland:20230831T184500
DTEND;TZID=Pacific/Auckland:20230831T184500
DTSTAMP:20260425T085421
CREATED:20240404T224618Z
LAST-MODIFIED:20240404T224618Z
UID:866-1693507500-1693507500@www.mattarmstrongimprov.com
SUMMARY:Remarkable Case of
DESCRIPTION:A murder mystery with a difference.\nYou’ll get to see the final Whodunnit scene at the start of the show and then the improv actors will take you back to the start so you can see how it all happened. And remember it’s 100% improvised! For lovers of Agatha Christie and all good murder mysteries.
URL:https://www.mattarmstrongimprov.com/calendar/remarkable-case-of-4/
LOCATION:Covert Theatre\, 51 MacKelvie Street\, Auckland\, New Zealand
CATEGORIES:Performing
END:VEVENT
BEGIN:VEVENT
DTSTART;TZID=Pacific/Auckland:20230830T190000
DTEND;TZID=Pacific/Auckland:20230830T203000
DTSTAMP:20260425T085421
CREATED:20240404T222115Z
LAST-MODIFIED:20240404T222115Z
UID:798-1693422000-1693427400@www.mattarmstrongimprov.com
SUMMARY:Office Comedy Clash
DESCRIPTION:We’re on a mission to bring more fun and laughter into the workplace.\nGain all the benefits from learning improv – enhance collaboration & teamwork\, creative thinking\, improve listening & communication skills and much more while having massive fun!  The Office Comedy Clash is an annual event that runs from June to October.
URL:https://www.mattarmstrongimprov.com/calendar/office-comedy-clash/
LOCATION:Covert Theatre\, 51 MacKelvie Street\, Auckland\, New Zealand
CATEGORIES:Directing
END:VEVENT
BEGIN:VEVENT
DTSTART;TZID=Pacific/Auckland:20230830T184500
DTEND;TZID=Pacific/Auckland:20230830T184500
DTSTAMP:20260425T085421
CREATED:20240404T224619Z
LAST-MODIFIED:20240404T224619Z
UID:865-1693421100-1693421100@www.mattarmstrongimprov.com
SUMMARY:Office Comedy Clash
DESCRIPTION:We’re on a mission to bring more fun and laughter into the workplace.\nGain all the benefits from learning improv – enhance collaboration & teamwork\, creative thinking\, improve listening & communication skills and much more while having massive fun!  The Office Comedy Clash is an annual event that runs from June to October.
URL:https://www.mattarmstrongimprov.com/calendar/office-comedy-clash-2/
LOCATION:Covert Theatre\, 51 MacKelvie Street\, Auckland\, New Zealand
CATEGORIES:Directing
END:VEVENT
BEGIN:VEVENT
DTSTART;TZID=Pacific/Auckland:20230824T203500
DTEND;TZID=Pacific/Auckland:20230824T203500
DTSTAMP:20260425T085421
CREATED:20240404T224619Z
LAST-MODIFIED:20240404T224619Z
UID:864-1692909300-1692909300@www.mattarmstrongimprov.com
SUMMARY:Improv Jukebox
DESCRIPTION:A workshop show where the Covert community try out new styles\, scenes\, games\, and who knows what else? Drop your coin and see what the jukebox plays
URL:https://www.mattarmstrongimprov.com/calendar/improv-jukebox-7/
LOCATION:Covert Theatre\, 51 MacKelvie Street\, Auckland\, New Zealand
CATEGORIES:Performing
END:VEVENT
BEGIN:VEVENT
DTSTART;TZID=Pacific/Auckland:20230824T203000
DTEND;TZID=Pacific/Auckland:20230824T220000
DTSTAMP:20260425T085421
CREATED:20240404T221658Z
LAST-MODIFIED:20240404T221658Z
UID:797-1692909000-1692914400@www.mattarmstrongimprov.com
SUMMARY:Improv Jukebox
DESCRIPTION:A workshop show where the Covert community try out new styles\, scenes\, games\, and who knows what else? Drop your coin and see what the jukebox plays
URL:https://www.mattarmstrongimprov.com/calendar/improv-jukebox-5/
LOCATION:Covert Theatre\, 51 MacKelvie Street\, Auckland\, New Zealand
CATEGORIES:Performing
END:VEVENT
BEGIN:VEVENT
DTSTART;TZID=Pacific/Auckland:20230824T193000
DTEND;TZID=Pacific/Auckland:20230824T193000
DTSTAMP:20260425T085421
CREATED:20240404T224619Z
LAST-MODIFIED:20240404T224619Z
UID:863-1692905400-1692905400@www.mattarmstrongimprov.com
SUMMARY:Remarkable Case of
DESCRIPTION:A murder mystery with a difference.\nYou’ll get to see the final Whodunnit scene at the start of the show and then the improv actors will take you back to the start so you can see how it all happened. And remember it’s 100% improvised! For lovers of Agatha Christie and all good murder mysteries.
URL:https://www.mattarmstrongimprov.com/calendar/remarkable-case-of-5/
LOCATION:Covert Theatre\, 51 MacKelvie Street\, Auckland\, New Zealand
CATEGORIES:Directing
END:VEVENT
BEGIN:VEVENT
DTSTART;TZID=Pacific/Auckland:20230820T171500
DTEND;TZID=Pacific/Auckland:20230820T171500
DTSTAMP:20260425T085421
CREATED:20240404T224619Z
LAST-MODIFIED:20240404T224619Z
UID:862-1692551700-1692551700@www.mattarmstrongimprov.com
SUMMARY:Jester
DESCRIPTION:Jester – fresh comedy every time\nThis is a fast and furious improv comedy show in the style of TV’s Whose Line Is It Anyway? Improvisers are called up to perform scenes\, sagas and songs all based on the audience’s suggestions.  \nSheer madcap wit and an energetic slapdash hour of fun. Theatreview \n\nCome armed with your funny bone and some unique suggestions for the performers who are guaranteed to leave you grinning from ear to ear before the night is done. NZ Entertainment Podcast>
URL:https://www.mattarmstrongimprov.com/calendar/jester-8/
LOCATION:Covert Theatre\, 51 MacKelvie Street\, Auckland\, New Zealand
CATEGORIES:Directing
END:VEVENT
BEGIN:VEVENT
DTSTART;TZID=Pacific/Auckland:20230818T203500
DTEND;TZID=Pacific/Auckland:20230818T203500
DTSTAMP:20260425T085421
CREATED:20240404T224619Z
LAST-MODIFIED:20240404T224619Z
UID:861-1692390900-1692390900@www.mattarmstrongimprov.com
SUMMARY:Living Room
DESCRIPTION:The Living Room\nThe show starts after a dinner party with friends who have adjourned to the living room. A topic is discussed and the instigation for rollicking good time of improvised scenes that take you to great comedic heights.  \nCome armed with your funny bone and some unique suggestions for the performers who are guaranteed to leave you grinning from ear to ear before the night is done. NZ Entertainment Podcast
URL:https://www.mattarmstrongimprov.com/calendar/living-room-5/
LOCATION:Covert Theatre\, 51 MacKelvie Street\, Auckland\, New Zealand
CATEGORIES:Performing
END:VEVENT
BEGIN:VEVENT
DTSTART;TZID=Pacific/Auckland:20230817T203500
DTEND;TZID=Pacific/Auckland:20230817T203500
DTSTAMP:20260425T085421
CREATED:20240404T225534Z
LAST-MODIFIED:20240404T225534Z
UID:941-1692304500-1692304500@www.mattarmstrongimprov.com
SUMMARY:Improv Jukebox
DESCRIPTION:A workshop show where the Covert community try out new styles\, scenes\, games\, and who knows what else? Drop your coin and see what the jukebox plays
URL:https://www.mattarmstrongimprov.com/calendar/improv-jukebox-9/
LOCATION:Covert Theatre\, 51 MacKelvie Street\, Auckland\, New Zealand
CATEGORIES:Performing
END:VEVENT
BEGIN:VEVENT
DTSTART;TZID=Pacific/Auckland:20230817T193000
DTEND;TZID=Pacific/Auckland:20230817T193000
DTSTAMP:20260425T085421
CREATED:20240404T225535Z
LAST-MODIFIED:20240404T225535Z
UID:940-1692300600-1692300600@www.mattarmstrongimprov.com
SUMMARY:Remarkable Case of
DESCRIPTION:A murder mystery with a difference.\nYou’ll get to see the final Whodunnit scene at the start of the show and then the improv actors will take you back to the start so you can see how it all happened. And remember it’s 100% improvised! For lovers of Agatha Christie and all good murder mysteries.
URL:https://www.mattarmstrongimprov.com/calendar/remarkable-case-of-6/
LOCATION:Covert Theatre\, 51 MacKelvie Street\, Auckland\, New Zealand
CATEGORIES:Directing
END:VEVENT
BEGIN:VEVENT
DTSTART;TZID=Pacific/Auckland:20230813T171500
DTEND;TZID=Pacific/Auckland:20230813T171500
DTSTAMP:20260425T085421
CREATED:20240404T225535Z
LAST-MODIFIED:20240404T225535Z
UID:939-1691946900-1691946900@www.mattarmstrongimprov.com
SUMMARY:Jester
DESCRIPTION:Jester – fresh comedy every time\nThis is a fast and furious improv comedy show in the style of TV’s Whose Line Is It Anyway? Improvisers are called up to perform scenes\, sagas and songs all based on the audience’s suggestions.  \nSheer madcap wit and an energetic slapdash hour of fun. Theatreview \n\nCome armed with your funny bone and some unique suggestions for the performers who are guaranteed to leave you grinning from ear to ear before the night is done. NZ Entertainment Podcast>
URL:https://www.mattarmstrongimprov.com/calendar/jester-13/
LOCATION:Covert Theatre\, 51 MacKelvie Street\, Auckland\, New Zealand
CATEGORIES:Directing
END:VEVENT
BEGIN:VEVENT
DTSTART;TZID=Pacific/Auckland:20230812T203500
DTEND;TZID=Pacific/Auckland:20230812T203500
DTSTAMP:20260425T085421
CREATED:20240404T225535Z
LAST-MODIFIED:20240404T225535Z
UID:938-1691872500-1691872500@www.mattarmstrongimprov.com
SUMMARY:Same Same But Different
DESCRIPTION:
URL:https://www.mattarmstrongimprov.com/calendar/same-same-but-different-5/
LOCATION:Covert Theatre\, 51 MacKelvie Street\, Auckland\, New Zealand
CATEGORIES:Performing
END:VEVENT
BEGIN:VEVENT
DTSTART;TZID=Pacific/Auckland:20230812T100000
DTEND;TZID=Pacific/Auckland:20230812T120000
DTSTAMP:20260425T085421
CREATED:20240409T050620Z
LAST-MODIFIED:20240409T050620Z
UID:1038-1691834400-1691841600@www.mattarmstrongimprov.com
SUMMARY:Improv 301
DESCRIPTION:Introduction to improv for adults\nA 10-week program with 2 hours classes\, this an introduction to long form improvisation and the final stage in being eligible to join the Covert Theatre.
URL:https://www.mattarmstrongimprov.com/calendar/improv-301-3/
LOCATION:Covert Theatre\, 51 MacKelvie Street\, Auckland\, New Zealand
CATEGORIES:Teaching
END:VEVENT
BEGIN:VEVENT
DTSTART;TZID=Pacific/Auckland:20230811T203500
DTEND;TZID=Pacific/Auckland:20230811T203500
DTSTAMP:20260425T085421
CREATED:20240404T225535Z
LAST-MODIFIED:20240404T225535Z
UID:937-1691786100-1691786100@www.mattarmstrongimprov.com
SUMMARY:Same Same But Different
DESCRIPTION:
URL:https://www.mattarmstrongimprov.com/calendar/same-same-but-different-6/
LOCATION:Covert Theatre\, 51 MacKelvie Street\, Auckland\, New Zealand
CATEGORIES:Performing
END:VEVENT
BEGIN:VEVENT
DTSTART;TZID=Pacific/Auckland:20230810T203500
DTEND;TZID=Pacific/Auckland:20230810T203500
DTSTAMP:20260425T085421
CREATED:20240404T225535Z
LAST-MODIFIED:20240404T225535Z
UID:936-1691699700-1691699700@www.mattarmstrongimprov.com
SUMMARY:Improv Jukebox
DESCRIPTION:A workshop show where the Covert community try out new styles\, scenes\, games\, and who knows what else? Drop your coin and see what the jukebox plays
URL:https://www.mattarmstrongimprov.com/calendar/improv-jukebox-10/
LOCATION:Covert Theatre\, 51 MacKelvie Street\, Auckland\, New Zealand
CATEGORIES:Performing
END:VEVENT
BEGIN:VEVENT
DTSTART;TZID=Pacific/Auckland:20230810T184500
DTEND;TZID=Pacific/Auckland:20230810T184500
DTSTAMP:20260425T085421
CREATED:20240404T225535Z
LAST-MODIFIED:20240404T225535Z
UID:935-1691693100-1691693100@www.mattarmstrongimprov.com
SUMMARY:Remarkable Case of
DESCRIPTION:A murder mystery with a difference.\nYou’ll get to see the final Whodunnit scene at the start of the show and then the improv actors will take you back to the start so you can see how it all happened. And remember it’s 100% improvised! For lovers of Agatha Christie and all good murder mysteries.
URL:https://www.mattarmstrongimprov.com/calendar/remarkable-case-of-7/
LOCATION:Covert Theatre\, 51 MacKelvie Street\, Auckland\, New Zealand
CATEGORIES:Performing
END:VEVENT
BEGIN:VEVENT
DTSTART;TZID=Pacific/Auckland:20230809T200500
DTEND;TZID=Pacific/Auckland:20230809T200500
DTSTAMP:20260425T085421
CREATED:20240404T221722Z
LAST-MODIFIED:20240404T221804Z
UID:799-1691611500-1691611500@www.mattarmstrongimprov.com
SUMMARY:Perfect Match
DESCRIPTION:Perfect Match – the speed dating show with a conscience \nEver wondered what was going on in people’s heads while speed dating? Now you can get that insight with the dating show with a conscience. Laugh at the human condition. It’s either that or cry!
URL:https://www.mattarmstrongimprov.com/calendar/perfect-match/
LOCATION:Covert Theatre\, 51 MacKelvie Street\, Auckland\, New Zealand
CATEGORIES:Performing
END:VEVENT
BEGIN:VEVENT
DTSTART;TZID=Pacific/Auckland:20230808T180000
DTEND;TZID=Pacific/Auckland:20230808T200000
DTSTAMP:20260425T085421
CREATED:20240409T052151Z
LAST-MODIFIED:20240409T052151Z
UID:1070-1691517600-1691524800@www.mattarmstrongimprov.com
SUMMARY:Meat First
DESCRIPTION:A four week introduction course on using Premise in long form improv
URL:https://www.mattarmstrongimprov.com/calendar/meat-first-2-2-2/
CATEGORIES:Teaching
END:VEVENT
BEGIN:VEVENT
DTSTART;TZID=Pacific/Auckland:20230805T203500
DTEND;TZID=Pacific/Auckland:20230805T203500
DTSTAMP:20260425T085421
CREATED:20240404T225535Z
LAST-MODIFIED:20240404T225535Z
UID:934-1691267700-1691267700@www.mattarmstrongimprov.com
SUMMARY:Improv Magic
DESCRIPTION:Improv Magic – NOT a magic show!\nThe show starts with an invocation and once the conjuring is complete\, the cast then bedazzle you with some improv magic. The entire show is a display of comedy that’s as clever as it is funny. It’s a night of mystery… a night of great heights… a night you won’t forget!
URL:https://www.mattarmstrongimprov.com/calendar/improv-magic-6/
LOCATION:Covert Theatre\, 51 MacKelvie Street\, Auckland\, New Zealand
CATEGORIES:Performing
END:VEVENT
BEGIN:VEVENT
DTSTART;TZID=Pacific/Auckland:20230805T100000
DTEND;TZID=Pacific/Auckland:20230805T120000
DTSTAMP:20260425T085421
CREATED:20240409T050656Z
LAST-MODIFIED:20240409T050656Z
UID:1040-1691229600-1691236800@www.mattarmstrongimprov.com
SUMMARY:Improv 301
DESCRIPTION:Introduction to improv for adults\nA 10-week program with 2 hours classes\, this an introduction to long form improvisation and the final stage in being eligible to join the Covert Theatre.
URL:https://www.mattarmstrongimprov.com/calendar/improv-301-3-2/
LOCATION:Covert Theatre\, 51 MacKelvie Street\, Auckland\, New Zealand
CATEGORIES:Teaching
END:VEVENT
BEGIN:VEVENT
DTSTART;TZID=Pacific/Auckland:20230804T203500
DTEND;TZID=Pacific/Auckland:20230804T203500
DTSTAMP:20260425T085421
CREATED:20240404T225535Z
LAST-MODIFIED:20240404T225535Z
UID:933-1691181300-1691181300@www.mattarmstrongimprov.com
SUMMARY:Improv Magic
DESCRIPTION:Improv Magic – NOT a magic show!\nThe show starts with an invocation and once the conjuring is complete\, the cast then bedazzle you with some improv magic. The entire show is a display of comedy that’s as clever as it is funny. It’s a night of mystery… a night of great heights… a night you won’t forget!
URL:https://www.mattarmstrongimprov.com/calendar/improv-magic-7/
LOCATION:Covert Theatre\, 51 MacKelvie Street\, Auckland\, New Zealand
CATEGORIES:Performing
END:VEVENT
BEGIN:VEVENT
DTSTART;TZID=Pacific/Auckland:20230803T203500
DTEND;TZID=Pacific/Auckland:20230803T203500
DTSTAMP:20260425T085421
CREATED:20240404T225535Z
LAST-MODIFIED:20240404T225535Z
UID:932-1691094900-1691094900@www.mattarmstrongimprov.com
SUMMARY:Improv Jukebox
DESCRIPTION:A workshop show where the Covert community try out new styles\, scenes\, games\, and who knows what else? Drop your coin and see what the jukebox plays
URL:https://www.mattarmstrongimprov.com/calendar/improv-jukebox-11/
LOCATION:Covert Theatre\, 51 MacKelvie Street\, Auckland\, New Zealand
CATEGORIES:Performing
END:VEVENT
BEGIN:VEVENT
DTSTART;TZID=Pacific/Auckland:20230803T193000
DTEND;TZID=Pacific/Auckland:20230803T193000
DTSTAMP:20260425T085421
CREATED:20240404T225535Z
LAST-MODIFIED:20240404T225535Z
UID:931-1691091000-1691091000@www.mattarmstrongimprov.com
SUMMARY:Remarkable Case of
DESCRIPTION:A murder mystery with a difference.\nYou’ll get to see the final Whodunnit scene at the start of the show and then the improv actors will take you back to the start so you can see how it all happened. And remember it’s 100% improvised! For lovers of Agatha Christie and all good murder mysteries.
URL:https://www.mattarmstrongimprov.com/calendar/remarkable-case-of-8/
LOCATION:Covert Theatre\, 51 MacKelvie Street\, Auckland\, New Zealand
CATEGORIES:Directing
END:VEVENT
BEGIN:VEVENT
DTSTART;TZID=Pacific/Auckland:20230801T180000
DTEND;TZID=Pacific/Auckland:20230801T200000
DTSTAMP:20260425T085421
CREATED:20240409T052122Z
LAST-MODIFIED:20240409T052122Z
UID:1068-1690912800-1690920000@www.mattarmstrongimprov.com
SUMMARY:Meat First
DESCRIPTION:A four week introduction course on using Premise in long form improv
URL:https://www.mattarmstrongimprov.com/calendar/meat-first-2-2/
CATEGORIES:Teaching
END:VEVENT
BEGIN:VEVENT
DTSTART;TZID=Pacific/Auckland:20230730T171500
DTEND;TZID=Pacific/Auckland:20230730T171500
DTSTAMP:20260425T085421
CREATED:20240404T225536Z
LAST-MODIFIED:20240404T225536Z
UID:930-1690737300-1690737300@www.mattarmstrongimprov.com
SUMMARY:Jester
DESCRIPTION:Jester – fresh comedy every time\nThis is a fast and furious improv comedy show in the style of TV’s Whose Line Is It Anyway? Improvisers are called up to perform scenes\, sagas and songs all based on the audience’s suggestions.  \nSheer madcap wit and an energetic slapdash hour of fun. Theatreview \n\nCome armed with your funny bone and some unique suggestions for the performers who are guaranteed to leave you grinning from ear to ear before the night is done. NZ Entertainment Podcast>
URL:https://www.mattarmstrongimprov.com/calendar/jester-14/
LOCATION:Covert Theatre\, 51 MacKelvie Street\, Auckland\, New Zealand
CATEGORIES:Directing
END:VEVENT
BEGIN:VEVENT
DTSTART;TZID=Pacific/Auckland:20230725T180000
DTEND;TZID=Pacific/Auckland:20230725T200000
DTSTAMP:20260425T085421
CREATED:20240409T052038Z
LAST-MODIFIED:20240409T052052Z
UID:1065-1690308000-1690315200@www.mattarmstrongimprov.com
SUMMARY:Meat First
DESCRIPTION:A four week introduction course on using Premise in long form improv
URL:https://www.mattarmstrongimprov.com/calendar/meat-first-2/
CATEGORIES:Teaching
END:VEVENT
BEGIN:VEVENT
DTSTART;TZID=Pacific/Auckland:20230718T180000
DTEND;TZID=Pacific/Auckland:20230718T200000
DTSTAMP:20260425T085421
CREATED:20240409T052005Z
LAST-MODIFIED:20240409T052020Z
UID:1063-1689703200-1689710400@www.mattarmstrongimprov.com
SUMMARY:Meat First
DESCRIPTION:A four week introduction course on using Premise in long form improv
URL:https://www.mattarmstrongimprov.com/calendar/meat-first/
CATEGORIES:Teaching
END:VEVENT
END:VCALENDAR