BEGIN:VCALENDAR
VERSION:2.0
PRODID:-//Matt Armstrong Improv - ECPv6.15.20//NONSGML v1.0//EN
CALSCALE:GREGORIAN
METHOD:PUBLISH
X-WR-CALNAME:Matt Armstrong Improv
X-ORIGINAL-URL:https://www.mattarmstrongimprov.com
X-WR-CALDESC:Events for Matt Armstrong Improv
REFRESH-INTERVAL;VALUE=DURATION:PT1H
X-Robots-Tag:noindex
X-PUBLISHED-TTL:PT1H
BEGIN:VTIMEZONE
TZID:Pacific/Auckland
BEGIN:STANDARD
TZOFFSETFROM:+1300
TZOFFSETTO:+1200
TZNAME:NZST
DTSTART:20240406T140000
END:STANDARD
BEGIN:DAYLIGHT
TZOFFSETFROM:+1200
TZOFFSETTO:+1300
TZNAME:NZDT
DTSTART:20240928T140000
END:DAYLIGHT
BEGIN:STANDARD
TZOFFSETFROM:+1300
TZOFFSETTO:+1200
TZNAME:NZST
DTSTART:20250405T140000
END:STANDARD
BEGIN:DAYLIGHT
TZOFFSETFROM:+1200
TZOFFSETTO:+1300
TZNAME:NZDT
DTSTART:20250927T140000
END:DAYLIGHT
BEGIN:STANDARD
TZOFFSETFROM:+1300
TZOFFSETTO:+1200
TZNAME:NZST
DTSTART:20260404T140000
END:STANDARD
BEGIN:DAYLIGHT
TZOFFSETFROM:+1200
TZOFFSETTO:+1300
TZNAME:NZDT
DTSTART:20260926T140000
END:DAYLIGHT
END:VTIMEZONE
BEGIN:VEVENT
DTSTART;TZID=Pacific/Auckland:20250805T180000
DTEND;TZID=Pacific/Auckland:20250805T180000
DTSTAMP:20260424T092315
CREATED:20250819T222819Z
LAST-MODIFIED:20250819T222819Z
UID:1147-1754416800-1754416800@www.mattarmstrongimprov.com
SUMMARY:Scenes from the Deep
DESCRIPTION:A 10-week workshop-to-show course that builds on the skills from 301 and beyond and culminates in a graduation show at the Covert Theatre.  In addition\, the course will better prepare you for the Covert Theatre’s auditions for long form shows like Double Down\, The After Party\, and Spellbound and others.  This workshop will give you a better understanding of teamwork in improv as you will get a lot of reps with the same group of people\, understand how each of you play\, and what creative sparks fly when you build trust over a long period.  \n\nDuring the course you’ll deepen your long form improv skills by practicing Premise and Organic openings\, choosing and framing the ‘comic motor’ to play the game of the scene\, creating memorable characters and relationships\, saying less but contributing more\, practicing those editing skills\, increasing your confidence on stage\, and more!  These skills will help you pay more attention to your scene partner\, quickly and economically establish a scene in the first few lines\, identifying ‘what is this scene about’ and making this clear to your scene partners\, and bringing back characters and stories that still have more to give to the audience.
URL:https://www.mattarmstrongimprov.com/calendar/scenes-from-the-deep-4/
LOCATION:Covert Theatre\, 51 MacKelvie Street\, Auckland\, New Zealand
CATEGORIES:Teaching
END:VEVENT
BEGIN:VEVENT
DTSTART;TZID=Pacific/Auckland:20250729T180000
DTEND;TZID=Pacific/Auckland:20250729T180000
DTSTAMP:20260424T092315
CREATED:20250819T223254Z
LAST-MODIFIED:20250819T223254Z
UID:1220-1753812000-1753812000@www.mattarmstrongimprov.com
SUMMARY:Improv 301
DESCRIPTION:
URL:https://www.mattarmstrongimprov.com/calendar/improv-301-7/
LOCATION:Covert Theatre\, 51 MacKelvie Street\, Auckland\, New Zealand
CATEGORIES:Tutor
END:VEVENT
BEGIN:VEVENT
DTSTART;TZID=Pacific/Auckland:20250729T180000
DTEND;TZID=Pacific/Auckland:20250729T180000
DTSTAMP:20260424T092315
CREATED:20250819T222819Z
LAST-MODIFIED:20250819T222819Z
UID:1146-1753812000-1753812000@www.mattarmstrongimprov.com
SUMMARY:Scenes from the Deep
DESCRIPTION:A 10-week workshop-to-show course that builds on the skills from 301 and beyond and culminates in a graduation show at the Covert Theatre.  In addition\, the course will better prepare you for the Covert Theatre’s auditions for long form shows like Double Down\, The After Party\, and Spellbound and others.  This workshop will give you a better understanding of teamwork in improv as you will get a lot of reps with the same group of people\, understand how each of you play\, and what creative sparks fly when you build trust over a long period.  \n\nDuring the course you’ll deepen your long form improv skills by practicing Premise and Organic openings\, choosing and framing the ‘comic motor’ to play the game of the scene\, creating memorable characters and relationships\, saying less but contributing more\, practicing those editing skills\, increasing your confidence on stage\, and more!  These skills will help you pay more attention to your scene partner\, quickly and economically establish a scene in the first few lines\, identifying ‘what is this scene about’ and making this clear to your scene partners\, and bringing back characters and stories that still have more to give to the audience.
URL:https://www.mattarmstrongimprov.com/calendar/scenes-from-the-deep-3/
LOCATION:Covert Theatre\, 51 MacKelvie Street\, Auckland\, New Zealand
CATEGORIES:Teaching
END:VEVENT
BEGIN:VEVENT
DTSTART;TZID=Pacific/Auckland:20250729T120000
DTEND;TZID=Pacific/Auckland:20250729T120000
DTSTAMP:20260424T092315
CREATED:20250819T223318Z
LAST-MODIFIED:20250819T223318Z
UID:1233-1753790400-1753790400@www.mattarmstrongimprov.com
SUMMARY:Office Comedy Challenge
DESCRIPTION:
URL:https://www.mattarmstrongimprov.com/calendar/office-comedy-challenge-8/
CATEGORIES:Teaching
END:VEVENT
BEGIN:VEVENT
DTSTART;TZID=Pacific/Auckland:20250722T180000
DTEND;TZID=Pacific/Auckland:20250722T180000
DTSTAMP:20260424T092315
CREATED:20250819T222818Z
LAST-MODIFIED:20250819T222818Z
UID:1145-1753207200-1753207200@www.mattarmstrongimprov.com
SUMMARY:Scenes from the Deep
DESCRIPTION:A 10-week workshop-to-show course that builds on the skills from 301 and beyond and culminates in a graduation show at the Covert Theatre.  In addition\, the course will better prepare you for the Covert Theatre’s auditions for long form shows like Double Down\, The After Party\, and Spellbound and others.  This workshop will give you a better understanding of teamwork in improv as you will get a lot of reps with the same group of people\, understand how each of you play\, and what creative sparks fly when you build trust over a long period.  \n\nDuring the course you’ll deepen your long form improv skills by practicing Premise and Organic openings\, choosing and framing the ‘comic motor’ to play the game of the scene\, creating memorable characters and relationships\, saying less but contributing more\, practicing those editing skills\, increasing your confidence on stage\, and more!  These skills will help you pay more attention to your scene partner\, quickly and economically establish a scene in the first few lines\, identifying ‘what is this scene about’ and making this clear to your scene partners\, and bringing back characters and stories that still have more to give to the audience.
URL:https://www.mattarmstrongimprov.com/calendar/scenes-from-the-deep-2/
LOCATION:Covert Theatre\, 51 MacKelvie Street\, Auckland\, New Zealand
CATEGORIES:Teaching
END:VEVENT
BEGIN:VEVENT
DTSTART;TZID=Pacific/Auckland:20250722T120000
DTEND;TZID=Pacific/Auckland:20250722T120000
DTSTAMP:20260424T092315
CREATED:20250819T223318Z
LAST-MODIFIED:20250819T223318Z
UID:1232-1753185600-1753185600@www.mattarmstrongimprov.com
SUMMARY:Office Comedy Challenge
DESCRIPTION:
URL:https://www.mattarmstrongimprov.com/calendar/office-comedy-challenge-7/
CATEGORIES:Teaching
END:VEVENT
BEGIN:VEVENT
DTSTART;TZID=Pacific/Auckland:20250715T180000
DTEND;TZID=Pacific/Auckland:20250715T180000
DTSTAMP:20260424T092315
CREATED:20250819T222817Z
LAST-MODIFIED:20250819T222817Z
UID:1144-1752602400-1752602400@www.mattarmstrongimprov.com
SUMMARY:Scenes from the Deep
DESCRIPTION:A 10-week workshop-to-show course that builds on the skills from 301 and beyond and culminates in a graduation show at the Covert Theatre.  In addition\, the course will better prepare you for the Covert Theatre’s auditions for long form shows like Double Down\, The After Party\, and Spellbound and others.  This workshop will give you a better understanding of teamwork in improv as you will get a lot of reps with the same group of people\, understand how each of you play\, and what creative sparks fly when you build trust over a long period.  \n\nDuring the course you’ll deepen your long form improv skills by practicing Premise and Organic openings\, choosing and framing the ‘comic motor’ to play the game of the scene\, creating memorable characters and relationships\, saying less but contributing more\, practicing those editing skills\, increasing your confidence on stage\, and more!  These skills will help you pay more attention to your scene partner\, quickly and economically establish a scene in the first few lines\, identifying ‘what is this scene about’ and making this clear to your scene partners\, and bringing back characters and stories that still have more to give to the audience.
URL:https://www.mattarmstrongimprov.com/calendar/scenes-from-the-deep/
LOCATION:Covert Theatre\, 51 MacKelvie Street\, Auckland\, New Zealand
CATEGORIES:Teaching
END:VEVENT
BEGIN:VEVENT
DTSTART;TZID=Pacific/Auckland:20250715T120000
DTEND;TZID=Pacific/Auckland:20250715T120000
DTSTAMP:20260424T092315
CREATED:20250819T223317Z
LAST-MODIFIED:20250819T223317Z
UID:1231-1752580800-1752580800@www.mattarmstrongimprov.com
SUMMARY:Office Comedy Challenge
DESCRIPTION:
URL:https://www.mattarmstrongimprov.com/calendar/office-comedy-challenge-6/
CATEGORIES:Teaching
END:VEVENT
BEGIN:VEVENT
DTSTART;TZID=Pacific/Auckland:20250711T190000
DTEND;TZID=Pacific/Auckland:20250711T190000
DTSTAMP:20260424T092315
CREATED:20250819T223326Z
LAST-MODIFIED:20250819T223326Z
UID:1235-1752260400-1752260400@www.mattarmstrongimprov.com
SUMMARY:Anything Can Happen
DESCRIPTION:
URL:https://www.mattarmstrongimprov.com/calendar/anything-can-happen/
CATEGORIES:Performer
END:VEVENT
BEGIN:VEVENT
DTSTART;TZID=Pacific/Auckland:20250711T090000
DTEND;TZID=Pacific/Auckland:20250711T090000
DTSTAMP:20260424T092315
CREATED:20250819T223323Z
LAST-MODIFIED:20250819T223323Z
UID:1234-1752224400-1752224400@www.mattarmstrongimprov.com
SUMMARY:Game of Life
DESCRIPTION:Teaching the Game of Life to Taranaki Improv team
URL:https://www.mattarmstrongimprov.com/calendar/game-of-life/
CATEGORIES:Teaching
END:VEVENT
BEGIN:VEVENT
DTSTART;TZID=Pacific/Auckland:20250708T120000
DTEND;TZID=Pacific/Auckland:20250708T120000
DTSTAMP:20260424T092315
CREATED:20250819T223316Z
LAST-MODIFIED:20250819T223316Z
UID:1230-1751976000-1751976000@www.mattarmstrongimprov.com
SUMMARY:Office Comedy Challenge
DESCRIPTION:
URL:https://www.mattarmstrongimprov.com/calendar/office-comedy-challenge-5/
CATEGORIES:Teaching
END:VEVENT
BEGIN:VEVENT
DTSTART;TZID=Pacific/Auckland:20250705T200000
DTEND;TZID=Pacific/Auckland:20250705T200000
DTSTAMP:20260424T092315
CREATED:20250819T223249Z
LAST-MODIFIED:20250819T223249Z
UID:1219-1751745600-1751745600@www.mattarmstrongimprov.com
SUMMARY:Ferris Wheel
DESCRIPTION:
URL:https://www.mattarmstrongimprov.com/calendar/ferris-wheel-14/
LOCATION:Covert Theatre\, 51 MacKelvie Street\, Auckland\, New Zealand
CATEGORIES:Player
END:VEVENT
BEGIN:VEVENT
DTSTART;TZID=Pacific/Auckland:20250704T200000
DTEND;TZID=Pacific/Auckland:20250704T200000
DTSTAMP:20260424T092315
CREATED:20250819T223248Z
LAST-MODIFIED:20250819T223248Z
UID:1218-1751659200-1751659200@www.mattarmstrongimprov.com
SUMMARY:Ferris Wheel
DESCRIPTION:
URL:https://www.mattarmstrongimprov.com/calendar/ferris-wheel-13/
LOCATION:Covert Theatre\, 51 MacKelvie Street\, Auckland\, New Zealand
CATEGORIES:Player
END:VEVENT
BEGIN:VEVENT
DTSTART;TZID=Pacific/Auckland:20250701T120000
DTEND;TZID=Pacific/Auckland:20250701T120000
DTSTAMP:20260424T092315
CREATED:20250819T223313Z
LAST-MODIFIED:20250819T223313Z
UID:1229-1751371200-1751371200@www.mattarmstrongimprov.com
SUMMARY:Office Comedy Challenge
DESCRIPTION:
URL:https://www.mattarmstrongimprov.com/calendar/office-comedy-challenge-4/
CATEGORIES:Teaching
END:VEVENT
BEGIN:VEVENT
DTSTART;TZID=Pacific/Auckland:20250624T120000
DTEND;TZID=Pacific/Auckland:20250624T120000
DTSTAMP:20260424T092315
CREATED:20250819T223309Z
LAST-MODIFIED:20250819T223309Z
UID:1228-1750766400-1750766400@www.mattarmstrongimprov.com
SUMMARY:Office Comedy Challenge
DESCRIPTION:
URL:https://www.mattarmstrongimprov.com/calendar/office-comedy-challenge-3/
CATEGORIES:Teaching
END:VEVENT
BEGIN:VEVENT
DTSTART;TZID=Pacific/Auckland:20250621T181500
DTEND;TZID=Pacific/Auckland:20250621T181500
DTSTAMP:20260424T092315
CREATED:20250819T223247Z
LAST-MODIFIED:20250819T223247Z
UID:1217-1750529700-1750529700@www.mattarmstrongimprov.com
SUMMARY:The Remarkable Case of
DESCRIPTION:
URL:https://www.mattarmstrongimprov.com/calendar/the-remarkable-case-of-28/
LOCATION:Covert Theatre\, 51 MacKelvie Street\, Auckland\, New Zealand
CATEGORIES:Player
END:VEVENT
BEGIN:VEVENT
DTSTART;TZID=Pacific/Auckland:20250617T120000
DTEND;TZID=Pacific/Auckland:20250617T120000
DTSTAMP:20260424T092315
CREATED:20250819T223309Z
LAST-MODIFIED:20250819T223309Z
UID:1227-1750161600-1750161600@www.mattarmstrongimprov.com
SUMMARY:Office Comedy Challenge
DESCRIPTION:
URL:https://www.mattarmstrongimprov.com/calendar/office-comedy-challenge-2/
CATEGORIES:Teaching
END:VEVENT
BEGIN:VEVENT
DTSTART;TZID=Pacific/Auckland:20250610T180000
DTEND;TZID=Pacific/Auckland:20250610T180000
DTSTAMP:20260424T092315
CREATED:20250819T223327Z
LAST-MODIFIED:20250819T223327Z
UID:1236-1749578400-1749578400@www.mattarmstrongimprov.com
SUMMARY:Directing Workshop
DESCRIPTION:
URL:https://www.mattarmstrongimprov.com/calendar/directing-workshop/
LOCATION:Covert Theatre\, 51 MacKelvie Street\, Auckland\, New Zealand
CATEGORIES:Teaching
END:VEVENT
BEGIN:VEVENT
DTSTART;TZID=Pacific/Auckland:20250610T120000
DTEND;TZID=Pacific/Auckland:20250610T120000
DTSTAMP:20260424T092315
CREATED:20250819T223307Z
LAST-MODIFIED:20250819T223307Z
UID:1226-1749556800-1749556800@www.mattarmstrongimprov.com
SUMMARY:Office Comedy Challenge
DESCRIPTION:
URL:https://www.mattarmstrongimprov.com/calendar/office-comedy-challenge/
CATEGORIES:Teaching
END:VEVENT
BEGIN:VEVENT
DTSTART;TZID=Pacific/Auckland:20250607T190000
DTEND;TZID=Pacific/Auckland:20250607T190000
DTSTAMP:20260424T092315
CREATED:20250819T223337Z
LAST-MODIFIED:20250819T223337Z
UID:1239-1749322800-1749322800@www.mattarmstrongimprov.com
SUMMARY:The Remarkable Case Of
DESCRIPTION:
URL:https://www.mattarmstrongimprov.com/calendar/the-remarkable-case-of-30/
LOCATION:Covert Theatre\, 51 MacKelvie Street\, Auckland\, New Zealand
CATEGORIES:Performer
END:VEVENT
BEGIN:VEVENT
DTSTART;TZID=Pacific/Auckland:20250603T201500
DTEND;TZID=Pacific/Auckland:20250603T201500
DTSTAMP:20260424T092315
CREATED:20250819T223334Z
LAST-MODIFIED:20250819T223334Z
UID:1238-1748981700-1748981700@www.mattarmstrongimprov.com
SUMMARY:Directing Workshop
DESCRIPTION:
URL:https://www.mattarmstrongimprov.com/calendar/directing-workshop-2/
LOCATION:Covert Theatre\, 51 MacKelvie Street\, Auckland\, New Zealand
CATEGORIES:Teaching
END:VEVENT
BEGIN:VEVENT
DTSTART;TZID=Pacific/Auckland:20250603T180000
DTEND;TZID=Pacific/Auckland:20250603T180000
DTSTAMP:20260424T092315
CREATED:20250819T223328Z
LAST-MODIFIED:20250819T223328Z
UID:1237-1748973600-1748973600@www.mattarmstrongimprov.com
SUMMARY:Improv 301
DESCRIPTION:
URL:https://www.mattarmstrongimprov.com/calendar/improv-301-9/
LOCATION:Covert Theatre\, 51 MacKelvie Street\, Auckland\, New Zealand
CATEGORIES:Teaching
END:VEVENT
BEGIN:VEVENT
DTSTART;TZID=Pacific/Auckland:20250525T171500
DTEND;TZID=Pacific/Auckland:20250525T171500
DTSTAMP:20260424T092315
CREATED:20250819T223243Z
LAST-MODIFIED:20250819T223243Z
UID:1216-1748193300-1748193300@www.mattarmstrongimprov.com
SUMMARY:Jester
DESCRIPTION:
URL:https://www.mattarmstrongimprov.com/calendar/jester-24/
LOCATION:Covert Theatre\, 51 MacKelvie Street\, Auckland\, New Zealand
CATEGORIES:MC
END:VEVENT
BEGIN:VEVENT
DTSTART;TZID=Pacific/Auckland:20250524T220000
DTEND;TZID=Pacific/Auckland:20250524T220000
DTSTAMP:20260424T092315
CREATED:20250819T222814Z
LAST-MODIFIED:20250819T222814Z
UID:1143-1748124000-1748124000@www.mattarmstrongimprov.com
SUMMARY:The Fother Muckers
DESCRIPTION:The Fother Muckers is a live unscripted puppet show for adults\, a cross between Graham Norton and Jerry Springer where you\, the audience\, will help write the questions you want the characters to answer each night. \nBut\, be warned\, the foul-mouthed Fother Muckers will interrogate the audience\, so YOU better bring your A game!
URL:https://www.mattarmstrongimprov.com/calendar/the-fother-muckers-8/
LOCATION:Covert Theatre\, 51 MacKelvie Street\, Auckland\, New Zealand
CATEGORIES:Performing
END:VEVENT
BEGIN:VEVENT
DTSTART;TZID=Pacific/Auckland:20250523T220000
DTEND;TZID=Pacific/Auckland:20250523T220000
DTSTAMP:20260424T092315
CREATED:20250819T222812Z
LAST-MODIFIED:20250819T222812Z
UID:1142-1748037600-1748037600@www.mattarmstrongimprov.com
SUMMARY:The Fother Muckers
DESCRIPTION:The Fother Muckers is a live unscripted puppet show for adults\, a cross between Graham Norton and Jerry Springer where you\, the audience\, will help write the questions you want the characters to answer each night. \nBut\, be warned\, the foul-mouthed Fother Muckers will interrogate the audience\, so YOU better bring your A game!
URL:https://www.mattarmstrongimprov.com/calendar/the-fother-muckers-7/
LOCATION:Covert Theatre\, 51 MacKelvie Street\, Auckland\, New Zealand
CATEGORIES:Performing
END:VEVENT
BEGIN:VEVENT
DTSTART;TZID=Pacific/Auckland:20250522T220000
DTEND;TZID=Pacific/Auckland:20250522T220000
DTSTAMP:20260424T092315
CREATED:20250819T222811Z
LAST-MODIFIED:20250819T222811Z
UID:1141-1747951200-1747951200@www.mattarmstrongimprov.com
SUMMARY:The Fother Muckers
DESCRIPTION:The Fother Muckers is a live unscripted puppet show for adults\, a cross between Graham Norton and Jerry Springer where you\, the audience\, will help write the questions you want the characters to answer each night. \nBut\, be warned\, the foul-mouthed Fother Muckers will interrogate the audience\, so YOU better bring your A game!
URL:https://www.mattarmstrongimprov.com/calendar/the-fother-muckers-6/
LOCATION:Covert Theatre\, 51 MacKelvie Street\, Auckland\, New Zealand
CATEGORIES:Performing
END:VEVENT
BEGIN:VEVENT
DTSTART;TZID=Pacific/Auckland:20250516T181500
DTEND;TZID=Pacific/Auckland:20250516T181500
DTSTAMP:20260424T092315
CREATED:20250819T223238Z
LAST-MODIFIED:20250819T223238Z
UID:1215-1747419300-1747419300@www.mattarmstrongimprov.com
SUMMARY:The Remarkable Case of
DESCRIPTION:
URL:https://www.mattarmstrongimprov.com/calendar/the-remarkable-case-of-27/
LOCATION:Covert Theatre\, 51 MacKelvie Street\, Auckland\, New Zealand
CATEGORIES:Narrator
END:VEVENT
BEGIN:VEVENT
DTSTART;TZID=Pacific/Auckland:20250510T181500
DTEND;TZID=Pacific/Auckland:20250510T181500
DTSTAMP:20260424T092315
CREATED:20250819T223236Z
LAST-MODIFIED:20250819T223236Z
UID:1214-1746900900-1746900900@www.mattarmstrongimprov.com
SUMMARY:The Remarkable Case of
DESCRIPTION:
URL:https://www.mattarmstrongimprov.com/calendar/the-remarkable-case-of-26/
LOCATION:Covert Theatre\, 51 MacKelvie Street\, Auckland\, New Zealand
CATEGORIES:Narrator
END:VEVENT
BEGIN:VEVENT
DTSTART;TZID=Pacific/Auckland:20250509T181500
DTEND;TZID=Pacific/Auckland:20250509T181500
DTSTAMP:20260424T092315
CREATED:20250819T223233Z
LAST-MODIFIED:20250819T223233Z
UID:1213-1746814500-1746814500@www.mattarmstrongimprov.com
SUMMARY:The Remarkable Case of
DESCRIPTION:
URL:https://www.mattarmstrongimprov.com/calendar/the-remarkable-case-of-25/
LOCATION:Covert Theatre\, 51 MacKelvie Street\, Auckland\, New Zealand
CATEGORIES:Player
END:VEVENT
BEGIN:VEVENT
DTSTART;TZID=Pacific/Auckland:20250508T181500
DTEND;TZID=Pacific/Auckland:20250508T181500
DTSTAMP:20260424T092315
CREATED:20250819T223229Z
LAST-MODIFIED:20250819T223229Z
UID:1212-1746728100-1746728100@www.mattarmstrongimprov.com
SUMMARY:The Remarkable Case of
DESCRIPTION:
URL:https://www.mattarmstrongimprov.com/calendar/the-remarkable-case-of-24/
LOCATION:Covert Theatre\, 51 MacKelvie Street\, Auckland\, New Zealand
CATEGORIES:Player
END:VEVENT
END:VCALENDAR