BEGIN:VCALENDAR
VERSION:2.0
PRODID:-//Matt Armstrong Improv - ECPv6.15.20//NONSGML v1.0//EN
CALSCALE:GREGORIAN
METHOD:PUBLISH
X-ORIGINAL-URL:https://www.mattarmstrongimprov.com
X-WR-CALDESC:Events for Matt Armstrong Improv
REFRESH-INTERVAL;VALUE=DURATION:PT1H
X-Robots-Tag:noindex
X-PUBLISHED-TTL:PT1H
BEGIN:VTIMEZONE
TZID:Pacific/Auckland
BEGIN:STANDARD
TZOFFSETFROM:+1300
TZOFFSETTO:+1200
TZNAME:NZST
DTSTART:20230401T140000
END:STANDARD
BEGIN:DAYLIGHT
TZOFFSETFROM:+1200
TZOFFSETTO:+1300
TZNAME:NZDT
DTSTART:20230923T140000
END:DAYLIGHT
BEGIN:STANDARD
TZOFFSETFROM:+1300
TZOFFSETTO:+1200
TZNAME:NZST
DTSTART:20240406T140000
END:STANDARD
BEGIN:DAYLIGHT
TZOFFSETFROM:+1200
TZOFFSETTO:+1300
TZNAME:NZDT
DTSTART:20240928T140000
END:DAYLIGHT
BEGIN:STANDARD
TZOFFSETFROM:+1300
TZOFFSETTO:+1200
TZNAME:NZST
DTSTART:20250405T140000
END:STANDARD
BEGIN:DAYLIGHT
TZOFFSETFROM:+1200
TZOFFSETTO:+1300
TZNAME:NZDT
DTSTART:20250927T140000
END:DAYLIGHT
BEGIN:STANDARD
TZOFFSETFROM:+1300
TZOFFSETTO:+1200
TZNAME:NZST
DTSTART:20260404T140000
END:STANDARD
BEGIN:DAYLIGHT
TZOFFSETFROM:+1200
TZOFFSETTO:+1300
TZNAME:NZDT
DTSTART:20260926T140000
END:DAYLIGHT
END:VTIMEZONE
BEGIN:VEVENT
DTSTART;TZID=Pacific/Auckland:20250208T200000
DTEND;TZID=Pacific/Auckland:20250208T200000
DTSTAMP:20260424T153817
CREATED:20250819T223033Z
LAST-MODIFIED:20250819T223033Z
UID:1200-1739044800-1739044800@www.mattarmstrongimprov.com
SUMMARY:Spellbound
DESCRIPTION:
URL:https://www.mattarmstrongimprov.com/calendar/spellbound-3/
LOCATION:Covert Theatre\, 51 MacKelvie Street\, Auckland\, New Zealand
CATEGORIES:Host
END:VEVENT
BEGIN:VEVENT
DTSTART;TZID=Pacific/Auckland:20250207T200000
DTEND;TZID=Pacific/Auckland:20250207T200000
DTSTAMP:20260424T153817
CREATED:20250819T223032Z
LAST-MODIFIED:20250819T223032Z
UID:1199-1738958400-1738958400@www.mattarmstrongimprov.com
SUMMARY:Spellbound
DESCRIPTION:
URL:https://www.mattarmstrongimprov.com/calendar/spellbound-2/
LOCATION:Covert Theatre\, 51 MacKelvie Street\, Auckland\, New Zealand
CATEGORIES:Host
END:VEVENT
BEGIN:VEVENT
DTSTART;TZID=Pacific/Auckland:20250201T200000
DTEND;TZID=Pacific/Auckland:20250201T200000
DTSTAMP:20260424T153817
CREATED:20250819T223029Z
LAST-MODIFIED:20250819T223029Z
UID:1198-1738440000-1738440000@www.mattarmstrongimprov.com
SUMMARY:Jester
DESCRIPTION:
URL:https://www.mattarmstrongimprov.com/calendar/jester-23/
LOCATION:Covert Theatre\, 51 MacKelvie Street\, Auckland\, New Zealand
CATEGORIES:Director
END:VEVENT
BEGIN:VEVENT
DTSTART;TZID=Pacific/Auckland:20250131T200000
DTEND;TZID=Pacific/Auckland:20250131T200000
DTSTAMP:20260424T153817
CREATED:20250819T223025Z
LAST-MODIFIED:20250819T223025Z
UID:1197-1738353600-1738353600@www.mattarmstrongimprov.com
SUMMARY:Rookie Improv Night
DESCRIPTION:
URL:https://www.mattarmstrongimprov.com/calendar/rookie-improv-night-6/
LOCATION:Covert Theatre\, 51 MacKelvie Street\, Auckland\, New Zealand
CATEGORIES:Director
END:VEVENT
BEGIN:VEVENT
DTSTART;TZID=Pacific/Auckland:20250124T191500
DTEND;TZID=Pacific/Auckland:20250124T191500
DTSTAMP:20260424T153817
CREATED:20250819T223024Z
LAST-MODIFIED:20250819T223024Z
UID:1196-1737746100-1737746100@www.mattarmstrongimprov.com
SUMMARY:The Remarkable Case of
DESCRIPTION:
URL:https://www.mattarmstrongimprov.com/calendar/the-remarkable-case-of-18/
LOCATION:Covert Theatre\, 51 MacKelvie Street\, Auckland\, New Zealand
CATEGORIES:Narrator
END:VEVENT
BEGIN:VEVENT
DTSTART;TZID=Pacific/Auckland:20241220T181500
DTEND;TZID=Pacific/Auckland:20241220T181500
DTSTAMP:20260424T153817
CREATED:20250819T223023Z
LAST-MODIFIED:20250819T223023Z
UID:1195-1734718500-1734718500@www.mattarmstrongimprov.com
SUMMARY:Covert Big Comedy Xmas Show
DESCRIPTION:
URL:https://www.mattarmstrongimprov.com/calendar/covert-big-comedy-xmas-show-3/
LOCATION:Covert Theatre\, 51 MacKelvie Street\, Auckland\, New Zealand
CATEGORIES:Player
END:VEVENT
BEGIN:VEVENT
DTSTART;TZID=Pacific/Auckland:20241214T181500
DTEND;TZID=Pacific/Auckland:20241214T181500
DTSTAMP:20260424T153817
CREATED:20250819T223022Z
LAST-MODIFIED:20250819T223022Z
UID:1194-1734200100-1734200100@www.mattarmstrongimprov.com
SUMMARY:Covert Big Comedy Xmas Show
DESCRIPTION:
URL:https://www.mattarmstrongimprov.com/calendar/covert-big-comedy-xmas-show-2/
LOCATION:Covert Theatre\, 51 MacKelvie Street\, Auckland\, New Zealand
CATEGORIES:Host
END:VEVENT
BEGIN:VEVENT
DTSTART;TZID=Pacific/Auckland:20241207T181500
DTEND;TZID=Pacific/Auckland:20241207T181500
DTSTAMP:20260424T153817
CREATED:20250819T223019Z
LAST-MODIFIED:20250819T223019Z
UID:1193-1733595300-1733595300@www.mattarmstrongimprov.com
SUMMARY:Covert Big Comedy Xmas Show
DESCRIPTION:
URL:https://www.mattarmstrongimprov.com/calendar/covert-big-comedy-xmas-show/
LOCATION:Covert Theatre\, 51 MacKelvie Street\, Auckland\, New Zealand
CATEGORIES:Player
END:VEVENT
BEGIN:VEVENT
DTSTART;TZID=Pacific/Auckland:20241130T200000
DTEND;TZID=Pacific/Auckland:20241130T200000
DTSTAMP:20260424T153817
CREATED:20250819T223015Z
LAST-MODIFIED:20250819T223015Z
UID:1192-1732996800-1732996800@www.mattarmstrongimprov.com
SUMMARY:The After Party
DESCRIPTION:
URL:https://www.mattarmstrongimprov.com/calendar/the-after-party-4/
LOCATION:Covert Theatre\, 51 MacKelvie Street\, Auckland\, New Zealand
CATEGORIES:Player
END:VEVENT
BEGIN:VEVENT
DTSTART;TZID=Pacific/Auckland:20241129T200000
DTEND;TZID=Pacific/Auckland:20241129T200000
DTSTAMP:20260424T153817
CREATED:20250819T223015Z
LAST-MODIFIED:20250819T223015Z
UID:1191-1732910400-1732910400@www.mattarmstrongimprov.com
SUMMARY:The After Party
DESCRIPTION:
URL:https://www.mattarmstrongimprov.com/calendar/the-after-party-3/
LOCATION:Covert Theatre\, 51 MacKelvie Street\, Auckland\, New Zealand
CATEGORIES:Player
END:VEVENT
BEGIN:VEVENT
DTSTART;TZID=Pacific/Auckland:20241122T181500
DTEND;TZID=Pacific/Auckland:20241122T181500
DTSTAMP:20260424T153817
CREATED:20250819T223013Z
LAST-MODIFIED:20250819T223013Z
UID:1190-1732299300-1732299300@www.mattarmstrongimprov.com
SUMMARY:The Remarkable Case of
DESCRIPTION:
URL:https://www.mattarmstrongimprov.com/calendar/the-remarkable-case-of-17/
LOCATION:Covert Theatre\, 51 MacKelvie Street\, Auckland\, New Zealand
CATEGORIES:Player
END:VEVENT
BEGIN:VEVENT
DTSTART;TZID=Pacific/Auckland:20241115T200000
DTEND;TZID=Pacific/Auckland:20241115T200000
DTSTAMP:20260424T153817
CREATED:20250819T223012Z
LAST-MODIFIED:20250819T223012Z
UID:1189-1731700800-1731700800@www.mattarmstrongimprov.com
SUMMARY:Jester
DESCRIPTION:
URL:https://www.mattarmstrongimprov.com/calendar/jester-22/
LOCATION:Covert Theatre\, 51 MacKelvie Street\, Auckland\, New Zealand
CATEGORIES:Director
END:VEVENT
BEGIN:VEVENT
DTSTART;TZID=Pacific/Auckland:20241115T200000
DTEND;TZID=Pacific/Auckland:20241115T200000
DTSTAMP:20260424T153817
CREATED:20250819T223009Z
LAST-MODIFIED:20250819T223009Z
UID:1188-1731700800-1731700800@www.mattarmstrongimprov.com
SUMMARY:Jester
DESCRIPTION:
URL:https://www.mattarmstrongimprov.com/calendar/jester-21/
LOCATION:Covert Theatre\, 51 MacKelvie Street\, Auckland\, New Zealand
CATEGORIES:MC
END:VEVENT
BEGIN:VEVENT
DTSTART;TZID=Pacific/Auckland:20241109T200000
DTEND;TZID=Pacific/Auckland:20241109T200000
DTSTAMP:20260424T153817
CREATED:20250819T223004Z
LAST-MODIFIED:20250819T223004Z
UID:1187-1731182400-1731182400@www.mattarmstrongimprov.com
SUMMARY:Ferris Wheel
DESCRIPTION:
URL:https://www.mattarmstrongimprov.com/calendar/ferris-wheel-12/
LOCATION:Covert Theatre\, 51 MacKelvie Street\, Auckland\, New Zealand
CATEGORIES:Player
END:VEVENT
BEGIN:VEVENT
DTSTART;TZID=Pacific/Auckland:20241109T181500
DTEND;TZID=Pacific/Auckland:20241109T181500
DTSTAMP:20260424T153817
CREATED:20250819T223004Z
LAST-MODIFIED:20250819T223004Z
UID:1186-1731176100-1731176100@www.mattarmstrongimprov.com
SUMMARY:Perfect Match
DESCRIPTION:
URL:https://www.mattarmstrongimprov.com/calendar/perfect-match-6/
LOCATION:Covert Theatre\, 51 MacKelvie Street\, Auckland\, New Zealand
CATEGORIES:Player
END:VEVENT
BEGIN:VEVENT
DTSTART;TZID=Pacific/Auckland:20241108T200000
DTEND;TZID=Pacific/Auckland:20241108T200000
DTSTAMP:20260424T153817
CREATED:20250819T223003Z
LAST-MODIFIED:20250819T223003Z
UID:1185-1731096000-1731096000@www.mattarmstrongimprov.com
SUMMARY:Ferris Wheel
DESCRIPTION:
URL:https://www.mattarmstrongimprov.com/calendar/ferris-wheel-11/
LOCATION:Covert Theatre\, 51 MacKelvie Street\, Auckland\, New Zealand
CATEGORIES:Player
END:VEVENT
BEGIN:VEVENT
DTSTART;TZID=Pacific/Auckland:20241108T181500
DTEND;TZID=Pacific/Auckland:20241108T181500
DTSTAMP:20260424T153817
CREATED:20250819T223002Z
LAST-MODIFIED:20250819T223002Z
UID:1184-1731089700-1731089700@www.mattarmstrongimprov.com
SUMMARY:Perfect Match
DESCRIPTION:
URL:https://www.mattarmstrongimprov.com/calendar/perfect-match-5/
LOCATION:Covert Theatre\, 51 MacKelvie Street\, Auckland\, New Zealand
CATEGORIES:Player
END:VEVENT
BEGIN:VEVENT
DTSTART;TZID=Pacific/Auckland:20241101T200000
DTEND;TZID=Pacific/Auckland:20241101T200000
DTSTAMP:20260424T153817
CREATED:20250819T223000Z
LAST-MODIFIED:20250819T223000Z
UID:1183-1730491200-1730491200@www.mattarmstrongimprov.com
SUMMARY:Double Down
DESCRIPTION:
URL:https://www.mattarmstrongimprov.com/calendar/double-down/
LOCATION:Covert Theatre\, 51 MacKelvie Street\, Auckland\, New Zealand
CATEGORIES:Player
END:VEVENT
BEGIN:VEVENT
DTSTART;TZID=Pacific/Auckland:20241026T181500
DTEND;TZID=Pacific/Auckland:20241026T181500
DTSTAMP:20260424T153817
CREATED:20250819T222954Z
LAST-MODIFIED:20250819T222954Z
UID:1182-1729966500-1729966500@www.mattarmstrongimprov.com
SUMMARY:The After Party
DESCRIPTION:
URL:https://www.mattarmstrongimprov.com/calendar/the-after-party-2/
LOCATION:Covert Theatre\, 51 MacKelvie Street\, Auckland\, New Zealand
CATEGORIES:Player
END:VEVENT
BEGIN:VEVENT
DTSTART;TZID=Pacific/Auckland:20241025T181500
DTEND;TZID=Pacific/Auckland:20241025T181500
DTSTAMP:20260424T153817
CREATED:20250819T222953Z
LAST-MODIFIED:20250819T222953Z
UID:1181-1729880100-1729880100@www.mattarmstrongimprov.com
SUMMARY:The After Party
DESCRIPTION:
URL:https://www.mattarmstrongimprov.com/calendar/the-after-party/
LOCATION:Covert Theatre\, 51 MacKelvie Street\, Auckland\, New Zealand
CATEGORIES:Player
END:VEVENT
BEGIN:VEVENT
DTSTART;TZID=Pacific/Auckland:20241012T200000
DTEND;TZID=Pacific/Auckland:20241012T200000
DTSTAMP:20260424T153817
CREATED:20250819T222953Z
LAST-MODIFIED:20250819T222953Z
UID:1180-1728763200-1728763200@www.mattarmstrongimprov.com
SUMMARY:Spellbound
DESCRIPTION:
URL:https://www.mattarmstrongimprov.com/calendar/spellbound/
LOCATION:Covert Theatre\, 51 MacKelvie Street\, Auckland\, New Zealand
CATEGORIES:Player
END:VEVENT
BEGIN:VEVENT
DTSTART;TZID=Pacific/Auckland:20241005T181500
DTEND;TZID=Pacific/Auckland:20241005T181500
DTSTAMP:20260424T153817
CREATED:20250819T222952Z
LAST-MODIFIED:20250819T222952Z
UID:1179-1728152100-1728152100@www.mattarmstrongimprov.com
SUMMARY:The Remarkable Case of
DESCRIPTION:
URL:https://www.mattarmstrongimprov.com/calendar/the-remarkable-case-of-16/
LOCATION:Covert Theatre\, 51 MacKelvie Street\, Auckland\, New Zealand
CATEGORIES:Player
END:VEVENT
BEGIN:VEVENT
DTSTART;TZID=Pacific/Auckland:20240920T213000
DTEND;TZID=Pacific/Auckland:20240920T213000
DTSTAMP:20260424T153817
CREATED:20250819T222949Z
LAST-MODIFIED:20250819T222949Z
UID:1178-1726867800-1726867800@www.mattarmstrongimprov.com
SUMMARY:Fother Muckers
DESCRIPTION:
URL:https://www.mattarmstrongimprov.com/calendar/fother-muckers-3/
LOCATION:Covert Theatre\, 51 MacKelvie Street\, Auckland\, New Zealand
CATEGORIES:Host
END:VEVENT
BEGIN:VEVENT
DTSTART;TZID=Pacific/Auckland:20240913T213000
DTEND;TZID=Pacific/Auckland:20240913T213000
DTSTAMP:20260424T153817
CREATED:20250819T222946Z
LAST-MODIFIED:20250819T222946Z
UID:1177-1726263000-1726263000@www.mattarmstrongimprov.com
SUMMARY:Fother Muckers
DESCRIPTION:
URL:https://www.mattarmstrongimprov.com/calendar/fother-muckers-2/
LOCATION:Covert Theatre\, 51 MacKelvie Street\, Auckland\, New Zealand
CATEGORIES:Stage Puppeteer
END:VEVENT
BEGIN:VEVENT
DTSTART;TZID=Pacific/Auckland:20240906T213000
DTEND;TZID=Pacific/Auckland:20240906T213000
DTSTAMP:20260424T153817
CREATED:20250819T222945Z
LAST-MODIFIED:20250819T222945Z
UID:1176-1725658200-1725658200@www.mattarmstrongimprov.com
SUMMARY:Fother Muckers
DESCRIPTION:
URL:https://www.mattarmstrongimprov.com/calendar/fother-muckers/
LOCATION:Covert Theatre\, 51 MacKelvie Street\, Auckland\, New Zealand
CATEGORIES:Host
END:VEVENT
BEGIN:VEVENT
DTSTART;TZID=Pacific/Auckland:20240901T171500
DTEND;TZID=Pacific/Auckland:20240901T171500
DTSTAMP:20260424T153817
CREATED:20250819T222944Z
LAST-MODIFIED:20250819T222944Z
UID:1175-1725210900-1725210900@www.mattarmstrongimprov.com
SUMMARY:Improv Rookie Night
DESCRIPTION:
URL:https://www.mattarmstrongimprov.com/calendar/improv-rookie-night/
LOCATION:Covert Theatre\, 51 MacKelvie Street\, Auckland\, New Zealand
CATEGORIES:Director
END:VEVENT
BEGIN:VEVENT
DTSTART;TZID=Pacific/Auckland:20240831T200000
DTEND;TZID=Pacific/Auckland:20240831T200000
DTSTAMP:20260424T153817
CREATED:20250819T222942Z
LAST-MODIFIED:20250819T222942Z
UID:1174-1725134400-1725134400@www.mattarmstrongimprov.com
SUMMARY:Ferris Wheel
DESCRIPTION:
URL:https://www.mattarmstrongimprov.com/calendar/ferris-wheel-10/
LOCATION:Covert Theatre\, 51 MacKelvie Street\, Auckland\, New Zealand
CATEGORIES:Player
END:VEVENT
BEGIN:VEVENT
DTSTART;TZID=Pacific/Auckland:20240817T181500
DTEND;TZID=Pacific/Auckland:20240817T181500
DTSTAMP:20260424T153817
CREATED:20250819T222940Z
LAST-MODIFIED:20250819T222940Z
UID:1173-1723918500-1723918500@www.mattarmstrongimprov.com
SUMMARY:The Remarkable Case of
DESCRIPTION:
URL:https://www.mattarmstrongimprov.com/calendar/the-remarkable-case-of-15/
LOCATION:Covert Theatre\, 51 MacKelvie Street\, Auckland\, New Zealand
CATEGORIES:Narrator
END:VEVENT
BEGIN:VEVENT
DTSTART;TZID=Pacific/Auckland:20240810T200000
DTEND;TZID=Pacific/Auckland:20240810T200000
DTSTAMP:20260424T153817
CREATED:20250819T222919Z
LAST-MODIFIED:20250819T222919Z
UID:1172-1723320000-1723320000@www.mattarmstrongimprov.com
SUMMARY:Living Room
DESCRIPTION:
URL:https://www.mattarmstrongimprov.com/calendar/living-room-16/
LOCATION:Covert Theatre\, 51 MacKelvie Street\, Auckland\, New Zealand
CATEGORIES:Host
END:VEVENT
BEGIN:VEVENT
DTSTART;TZID=Pacific/Auckland:20240809T200000
DTEND;TZID=Pacific/Auckland:20240809T200000
DTSTAMP:20260424T153817
CREATED:20250819T222917Z
LAST-MODIFIED:20250819T222917Z
UID:1171-1723233600-1723233600@www.mattarmstrongimprov.com
SUMMARY:Living Room
DESCRIPTION:
URL:https://www.mattarmstrongimprov.com/calendar/living-room-15/
LOCATION:Covert Theatre\, 51 MacKelvie Street\, Auckland\, New Zealand
CATEGORIES:Host
END:VEVENT
END:VCALENDAR